Workbook

Sheet SUMMARY LOADING PONTON 2012
B2: SUMMARY LOADING PONTON PT. ZEN JAYA INDONESIA 2012
B4: NO | C4: CONSIGNEE | D4: NAME OF MOTHER VESSEL | F4: NO SKAB-SPB | G4: TUG / BARGE | I4: CARGO (MT) | L4: Selisih
I5: DRAUGHT SURVEYOR | J5: Kalori | K5: Volume | L5: Volume
B6: 1 | C6: PT. SENTOSA LAJU ENERGY | D6: 1 | E6: MV. JS LIBERTY | F6: 118 SBB-SKAB/I/2012 | G6: 118 | H6: BG.RMN 2504/TB.KSA 22 | I6: 5519.975 | J6: BG.RMN 2504 OK | K6: 5519.975 | L6: =I6-K6 -> 0 | O6: 5519.975 | P6: 1 | R6: =+I6-O6 -> 0
C7: PT. SENTOSA LAJU ENERGY | E7: MV. JS LIBERTY | F7: 119 SBB-SKAB/I/2012 | G7: 119 | H7: BG.RIMAU 2506/TB.LELUASA | I7: 5518.59 | J7: BG.Rimau 2506 ok | K7: 5518.59 | L7: =I7-K7 -> 0 | O7: 5518.59 | P7: 2 | R7: =+I7-O7 -> 0
C8: PT. SENTOSA LAJU ENERGY | E8: MV. JS LIBERTY | F8: 120 SBB-SKAB/I/2012 | G8: 120 | H8: BG.RMN 2503/TB.KSA 35 | I8: 5419.23 | K8: 5419.23 | L8: =I8-K8 -> 0 | O8: 5419.23 | P8: 3 | R8: =+I8-O8 -> 0
C9: PT. SENTOSA LAJU ENERGY | E9: MV. JS LIBERTY | F9: 121 SBB-SKAB/I/2012 | G9: 121 | H9: BG.SEA MASTER/TB.HIKMAH 02 | I9: 5536.487 | K9: 5536.487 | L9: =I9-K9 -> 0 | O9: 5536.487 | P9: 4 | R9: =+I9-O9 -> 0
C10: PT. SENTOSA LAJU ENERGY | E10: MV. JS LIBERTY | F10: 122 SBB-SKAB/I/2012 | G10: 122 | H10: BG.NOBEL SEA/TB.ROBBY 88 | I10: 4053.306 | K10: 4053.306 | L10: =I10-K10 -> 0 | O10: 4053.306 | P10: 5 | R10: =+I10-O10 -> 0
C11: PT. SENTOSA LAJU ENERGY | E11: MV. JS LIBERTY | F11: 123 SBB-SKAB/I/2012 | G11: 123 | H11: BG.RMN 2501/TB.KSA 43 | I11: 5619.044 | K11: 5619.044 | L11: =I11-K11 -> 0 | O11: 5619.044 | P11: 6 | R11: =+I11-O11 -> 0
C12: PT. SENTOSA LAJU ENERGY | E12: MV. JS LIBERTY | F12: 124 SBB-SKAB/I/2012 | G12: 124 | H12: BG.RMN 2507/TB.KSA 34 | I12: 5536.195 | K12: 5536.195 | L12: =I12-K12 -> 0 | O12: 5536.195 | P12: 7 | R12: =+I12-O12 -> 0
C13: PT. SENTOSA LAJU ENERGY | E13: MV. JS LIBERTY | F13: 125 SBB-SKAB/I/2012 | G13: 125 | H13: BG.RMN 2504/TB.KSA 22 | I13: 5591.064 | J13: BG.RMN 2504 OK | K13: 5591.064 | L13: =I13-K13 -> 0 | O13: 5591.064 | P13: 8 | R13: =+I13-O13 -> 0
C14: PT. SENTOSA LAJU ENERGY | E14: MV. JS LIBERTY | F14: 126 SBB-SKAB/I/2012 | G14: 126 | H14: BG.RIMAU 2506/TB.LELUASA | I14: 4566.212 | J14: BG.Rimau 2506 ok | K14: 4566.212 | L14: =I14-K14 -> 0 | O14: 4566.212 | P14: 9 | R14: =+I14-O14 -> 0
C15: PT. SENTOSA LAJU ENERGY | E15: MV. JS LIBERTY | F15: 127 SBB-SKAB/I/2012 | G15: 127 | H15: BG.RMN 2503/TB.KSA 35 | I15: 3638.029 | K15: 3638.029 | L15: =I15-K15 -> 0 | O15: 3638.029 | P15: 10 | R15: =+I15-O15 -> 0
C16: PT. SENTOSA LAJU ENERGY | E16: MV. JS LIBERTY | F16: 128 SBB-SKAB/I/2012 | G16: 128 | H16: BG.NOBEL SEA/TB.ROBBY 88 | I16: 4042.319 | K16: 4042.319 | L16: =I16-K16 -> 0 | O16: 4042.319 | P16: 11 | R16: =+I16-O16 -> 0
K17: 5503.245 | L17: =I30-K17 -> 0 | O17: 5254.951 | P17: 12 | R17: =+I17-O17 -> -5254.951
K18: 5521.557 | L18: =I31-K18 -> 0 | O18: 5140.813 | P18: 13 | R18: =+I18-O18 -> -5140.813
K19: 5539.204 | L19: =I43-K19 -> 0 | O19: 5520.929 | P19: 14 | R19: =+I19-O19 -> -5520.929
K20: 5735.291 | L20: =I44-K20 -> 0 | O20: 5373.89 | P20: 15 | R20: =+I20-O20 -> -5373.89
J21: BG.Rimau 2506 ok | K21: 5532.086 | L21: =I45-K21 -> 0 | O21: 5155.215 | P21: 16 | R21: =+I21-O21 -> -5155.215
K22: 5539.295 | L22: =I46-K22 -> -0.036 | O22: 5517.551 | P22: 17 | R22: =+I22-O22 -> -5517.551
K23: 5232.92 | L23: =I47-K23 -> 0 | O23: 5232.92 | P23: 18 | R23: =+I23-O23 -> -5232.92
K24: 5517.551 | L24: =I48-K24 -> 0 | O24: 5539.259 | P24: 19 | R24: =+I24-O24 -> -5539.259
K25: 3869.527 | L25: =I49-K25 -> 0 | O25: 5532.086 | P25: 20 | R25: =+I25-O25 -> -5532.086
K26: 5496.765 | L26: =I51-K26 -> 0 | O26: 5539.204 | P26: 21 | R26: =+I26-O26 -> -5539.204
K27: 3879.728 | L27: =I52-K27 -> 0 | O27: 5735.291 | P27: 22 | R27: =+I27-O27 -> -5735.291
K28: 3754.075 | L28: =I54-K28 -> 0 | O28: 7129.645 | P28: 23 | R28: =+I28-O28 -> -7129.645
K29: 5259.686 | L29: =I55-K29 -> 0 | O29: 6532.344 | P29: 24 | R29: =+I29-O29 -> -6532.344
B30: 2 | C30: PT. SENTOSA LAJU ENERGY | D30: 2 | E30: MV.TIANJIN VENTURE | F30: 001 SBB-SKAB/II/2012 | G30: 1 | H30: BG.SEA MASTER I/TB.HIKMAH 02 | I30: 5503.245 | K30: 5365.246 | L30: =I56-K30 -> 0 | O30: 5521.557 | P30: 25 | R30: =+I30-O30 -> -18.312
C31: PT. SENTOSA LAJU ENERGY | E31: MV.TIANJIN VENTURE | F31: 002 SBB-SKAB/II/2012 | G31: 2 | H31: BG.RMN 2501/TB.KSA 43 | I31: 5521.557 | K31: 5379.353 | L31: =I57-K31 -> 0 | O31: 5503.245 | P31: 26 | R31: =+I31-O31 -> 18.312
K32: 5518.833 | L32: =I58-K32 -> 0 | O32: 5219.542 | P32: 27 | R32: =+I32-O32 -> -5219.542
K33: 3892.052 | L33: =I59-K33 -> 0 | O33: 5164.164 | P33: 28 | R33: =+I33-O33 -> -5164.164
K34: 5533.791 | L34: =I60-K34 -> 0 | O34: 5496.765 | P34: 29 | R34: =+I34-O34 -> -5496.765
K35: 4036.624 | L35: =I61-K35 -> 0 | O35: 3879.728 | P35: 30 | R35: =+I35-O35 -> -3879.728
K36: 5186.781 | L36: =I62-K36 -> -6 | O36: 3754.075 | P36: 31 | R36: =+I36-O36 -> -3754.075
J37: BG.Rimau 2506 ok | K37: 5563.576 | L37: =I63-K37 -> 0 | O37: 5259.686 | P37: 32 | R37: =+I37-O37 -> -5259.686
K38: 5489.795 | L38: =I64-K38 -> -5 | O38: 5365.246 | P38: 33 | R38: =+I38-O38 -> -5365.246
K39: 5454.227 | L39: =I65-K39 -> 0 | O39: 5379.353 | P39: 34 | R39: =+I39-O39 -> -5379.353
K40: 3108.028 | L40: =I66-K40 -> 0 | O40: 5518.833 | P40: 35 | R40: =+I40-O40 -> -5518.833
K41: 3144.852 | L41: =I67-K41 -> 0 | O41: 5503.245 | P41: 36 | R41: =+I41-O41 -> -5503.245
K42: 5170.624 | L42: =I68-K42 -> 0 | O42: 5521.557 | P42: 37 | R42: =+I42-O42 -> -5521.557
C43: PT. SENTOSA LAJU ENERGY | D43: 3 | E43: MV. KAITY L | F43: 003 SBB-SKAB/II/2012 | G43: 3 | H43: BG.LIUS EMAS/TB. L FORTUNA | I43: 5539.204 | K43: 5636.576 | L43: =I69-K43 -> 0 | O43: 5539.204 | P43: 38 | R43: =+I43-O43 -> 0
C44: PT. SENTOSA LAJU ENERGY | E44: MV. KAITY L | F44: 004 SBB-SKAB/II/2012 | G44: 4 | H44: BG.RMN 2501/TB.KSA 43 | I44: 5735.291 | J44: BG.RMN 2504 OK | K44: 5402.67 | L44: =I70-K44 -> 0 | O44: 5735.291 | P44: 39 | R44: =+I44-O44 -> 0
C45: PT. SENTOSA LAJU ENERGY | E45: MV. KAITY L | F45: 005 SBB-SKAB/II/2012 | G45: 5 | H45: BG.RIMAU 2506/TB.LELUASA | I45: 5532.086 | K45: 5692.339 | L45: =I71-K45 -> 0 | O45: 5532.086 | P45: 40 | R45: =+I45-O45 -> 0
C46: PT. SENTOSA LAJU ENERGY | E46: MV. KAITY L | F46: 006 SBB-SKAB/II/2012 | G46: 6 | H46: BG.RMN 2503/TB.KSA 35 | I46: 5539.259 | K46: 5432.657 | L46: =I72-K46 -> 0 | O46: 5539.295 | P46: 41 | R46: =+I46-O46 -> -0.036
C47: PT. SENTOSA LAJU ENERGY | E47: MV. KAITY L | F47: 007 SBB-SKAB/II/2012 | G47: 7 | H47: BG.ASIA RAIDER 301/TB.KING FISHER 301 | I47: 5232.92 | J47: BG.Rimau 2506 ok | K47: 5501.373 | L47: =I73-K47 -> 0 | O47: 5232.92 | P47: 42 | R47: =+I47-O47 -> 0
C48: PT. SENTOSA LAJU ENERGY | E48: MV. KAITY L | F48: 008 SBB-SKAB/II/2012 | G48: 8 | H48: BG.ASIA STAR 808/TB. KING FISHER 505 | I48: 5517.551 | K48: 3560.53 | L48: =I74-K48 -> 0 | O48: 5517.551 | P48: 43 | R48: =+I48-O48 -> 0
C49: PT. SENTOSA LAJU ENERGY | E49: MV. KAITY L | F49: 009 SBB-SKAB/II/2012 | G49: 9 | H49: BG.NOBEL SEA 231/TB.KARYA MAKMUR | I49: 3869.527 | K49: 5486.905 | L49: =I75-K49 -> 0 | O49: 3869.527 | P49: 44 | R49: =+I49-O49 -> 0
K50: 5634.449 | L50: =I76-K50 -> 0 | O50: 5518.905 | P50: 45 | R50: =+I50-O50 -> -5518.905
B51: 3 | C51: PT. SENTOSA LAJU ENERGY | E51: MV. KAITY L | F51: 010 SBB-SKAB/II/2012 | G51: 10 | H51: BG.LIUS EMAS/TB. L. FORTUNA | I51: 5496.765 | K51: 5265.741 | L51: =I77-K51 -> 0 | O51: 5556.075 | P51: 46 | R51: =+I51-O51 -> -59.31
C52: PT. SENTOSA LAJU ENERGY | E52: MV. KAITY L | F52: 011 SBB-SKAB/III/2012 | G52: 11 | H52: BG.RMN 2501/TB.KSA 43 | I52: 3879.728 | J52: BG.RMN 2504 OK | K52: 5557.424 | L52: =I78-K52 -> 0 | O52: 5445.869 | P52: 47 | R52: =+I52-O52 -> -1566.141
K53: 5508.668 | L53: =I79-K53 -> 0 | O53: 5415.047 | P53: 48 | R53: =+I53-O53 -> -5415.047
C54: PT. SENTOSA LAJU ENERGY | E54: MV. KAITY L | F54: 012 SBB-SKAB/III/2012 | G54: 12 | H54: BG.NOBEL SEA 231/TB.KARYA MAKMUR | I54: 3754.075 | K54: 4002.543 | L54: =I80-K54 -> 0 | O54: 3892.052 | P54: 49 | R54: =+I54-O54 -> -137.977
C55: PT. SENTOSA LAJU ENERGY | D55: 4 | E55: MV.NAVIOS MERIDIAN | F55: 013 SBB-SKAB/III/2012 | G55: 13 | H55: BG.DIAMOND 1/TB.CLEAVENT 1 | I55: 5259.686 | K55: 5571.484 | L55: =I81-K55 -> 0 | O55: 5533.791 | P55: 50 | R55: =+I55-O55 -> -274.105
C56: PT. SENTOSA LAJU ENERGY | E56: MV.NAVIOS MERIDIAN | F56: 014 SBB-SKAB/III/2012 | G56: 14 | H56: BG.RMN 2507/TB.KSA 34 | I56: 5365.246 | K56: 5602.958 | L56: =I82-K56 -> 0 | O56: 4036.624 | P56: 51 | R56: =+I57-O56 -> 1342.729
C57: PT. SENTOSA LAJU ENERGY | E57: MV. MANDARIN RIVER | F57: 015 SBB-SKAB/III/2012 | G57: 15 | H57: BG.ASIA STAR 808/TB. KING FISHER 505 | I57: 5379.353 | K57: 5537.824 | L57: =I83-K57 -> 0 | O57: 5186.781 | P57: 52
C58: PT. SENTOSA LAJU ENERGY | E58: MV. MANDARIN RIVER | F58: 016 SBB-SKAB/III/2012 | G58: 16 | H58: BG. SEA MASTER / TB. HIKMAH 02 | I58: 5518.833 | J58: BG.Rimau 2506 TOK | K58: 5374.875 | L58: =I84-K58 -> -4162.183 | O58: 5563.576 | P58: 53
C59: PT. SENTOSA LAJU ENERGY | E59: MV. MANDARIN RIVER | F59: 017 SBB-SKAB/IV/2012 | G59: 17 | H59: BG.NOBEL SEA 232/TB.ROBBY 88 | I59: 3892.052 | K59: 5613.645 | L59: =I85-K59 -> 0 | O59: 5489.795 | P59: 54
B60: 4 | C60: PT. SENTOSA LAJU ENERGY | E60: MV. MANDARIN RIVER | F60: 018 SBB-SKAB/IV/2012 | G60: 18 | H60: BG.PRIMA SAKTI 06/TB.DELTA ABADI 3 | I60: 5533.791 | K60: 5502.181 | L60: =I86-K60 -> 0 | O60: 5454.227 | P60: 55
C61: PT. SENTOSA LAJU ENERGY | D61: 5 | E61: MV.ALPINE TRADER | F61: 019 SBB-SKAB/IV/2012 | G61: 19 | H61: BG.NOBEL SEA 231/TB.KARYA MAKMUR | I61: 4036.624 | K61: 5513.989 | L61: =I87-K61 -> 0 | O61: 3108.028 | P61: 56
C62: PT. SENTOSA LAJU ENERGY | E62: MV.ALPINE TRADER | F62: 020 SBB-SKAB/IV/2012 | G62: 20 | H62: BG.ASIA RAIDER 301/TB.KING FISHER 301 | I62: 5180.781 | J62: BG.Rimau 2506 ok | K62: 4509.552 | L62: =I88-K62 -> 0 | O62: 3144.852 | P62: 57
C63: PT. SENTOSA LAJU ENERGY | E63: MV.ALPINE TRADER | F63: 021 SBB-SKAB/IV/2012 | G63: 21 | H63: BG.RIMAU 2506/TB.LELUASA | I63: 5563.576 | K63: 5223.953 | L63: =I89-K63 -> 0 | O63: 4005.36 | P63: 58
C64: PT. SENTOSA LAJU ENERGY | E64: MV.ALPINE TRADER | F64: 022 SBB-SKAB/IV/2012 | G64: 22 | H64: BG.LIUS EMAS/TB. L FORTUNA | I64: 5484.795 | K64: 5562.871 | L64: =I90-K64 -> 0 | O64: 4918.723 | P64: 59
C65: PT. SENTOSA LAJU ENERGY | E65: MV.ALPINE TRADER | F65: 023 SBB-SKAB/IV/2012 | G65: 23 | H65: BG.PRIMA SAKTI 05/TB.PRIMA STAR 2 | I65: 5454.227 | K65: 5515.136 | L65: =I91-K65 -> 0 | O65: 5170.624 | P65: 60
C66: PT. SENTOSA LAJU ENERGY | E66: MV.ALPINE TRADER | F66: 024 SBB-SKAB/IV/2012 | G66: 24 | H66: BG.ASIA STAR 808/TB. KING FISHER 505 | I66: 3108.028 | J66: BELUM | K66: 5561.821 | L66: =I92-K66 -> -697.025 | O66: 5636.576 | P66: 61
C67: PT. SENTOSA LAJU ENERGY | E67: MV.ALPINE TRADER | F67: 025 SBB-SKAB/IV/2012 | G67: 25 | H67: BG.NOBEL SEA 232/TB.ROBBY 88 | I67: 3144.852 | K67: 5548.974 | L67: =I93-K67 -> 0 | O67: 5402.67 | P67: 62
B68: 5 | C68: PT. SENTOSA LAJU ENERGY | D68: 6 | E68: MV.NIKOLAS III | F68: 026 SBB-SKAB/V/2012 | G68: 26 | H68: BG.RMN 2503/TB.KSA 35 | I68: 5170.624 | K68: 5541.483 | L68: =I94-K68 -> 0 | O68: 5692.339 | P68: 63
C69: PT. SENTOSA LAJU ENERGY | E69: MV.NIKOLAS III | F69: 027 SBB-SKAB/V/2012 | G69: 27 | H69: BG.DIAMOND 1/TB.CLEAVENT 1 | I69: 5636.576 | K69: 5433.467 | L69: =I95-K69 -> 0 | O69: 5432.657 | P69: 64
C70: PT. SENTOSA LAJU ENERGY | E70: MV.NIKOLAS III | F70: 28 SBB-SKAB/V/2012 | G70: 28 | H70: BG.RMN 2504/TB.KSA 22 | I70: 5402.67 | J70: BG.Rimau 2506 ok | K70: 5430.805 | L70: =I96-K70 -> 0 | O70: 5387.74 | P70: 65
C71: PT. SENTOSA LAJU ENERGY | E71: MV.NIKOLAS III | F71: 29 SBB-SKAB/V/2012 | G71: 29 | H71: BG.ASIA STAR 808/TB. KING FISHER 505 | I71: 5692.339 | K71: 5487.867 | L71: =I97-K71 -> 0 | O71: 5501.373 | P71: 66
C72: PT. SENTOSA LAJU ENERGY | E72: MV.NIKOLAS III | F72: 30 SBB-SKAB/V/2012 | G72: 30 | H72: BG.ASIA RAIDER 301/TB.KINGFISHER 301 | I72: 5432.657 | K72: 5195.232 | L72: =I98-K72 -> 0 | O72: 4212.827 | P72: 67
C73: PT. SENTOSA LAJU ENERGY | E73: MV.NIKOLAS III | F73: 32 SBB-SKAB/V/2012 | G73: 32 | H73: BG.RIMAU 2506/TB.LELUASA | I73: 5501.373 | K73: 5401.159 | L73: =I99-K73 -> 0 | O73: 3560.53 | P73: 68
C74: PT. SENTOSA LAJU ENERGY | E74: MV.NIKOLAS III | F74: 34 SBB-SKAB/V/2012 | G74: 34 | H74: BG.LIUS EMAS/TB. L FORTUNA | I74: 3560.53 | K74: 5363.325 | L74: =I100-K74 -> 0 | O74: 5486.905 | P74: 69
C75: PT. SENTOSA LAJU ENERGY | D75: 7 | E75: MV.MEDI VALENCIA | F75: 35 SBB-SKAB/V/2012 | G75: 35 | H75: BG.RMN 2503/TB.KSA 35 | I75: 5486.905 | J75: BG.RMN 2509 TOK | K75: 5684.177 | L75: =I101-K75 -> -257.336 | O75: 5634.449 | P75: 70
C76: PT. SENTOSA LAJU ENERGY | E76: MV.MEDI VALENCIA | F76: 36 SBB-SKAB/V/2012 | G76: 36 | H76: BG.DIAMOND 1/TB.CLEAVENT 1 | I76: 5634.449 | K76: 5574.325 | L76: =I102-K76 -> 0 | O76: 5440.725 | P76: 71
C77: PT. SENTOSA LAJU ENERGY | E77: MV.MEDI VALENCIA | F77: 38 SBB-SKAB/V/2012 | G77: 38 | H77: BG.RMN 2501/TB.KSA 43 | I77: 5265.741 | K77: 5644.539 | L77: =I103-K77 -> 0 | O77: 5265.741 | P77: 72
C78: PT. SENTOSA LAJU ENERGY | E78: MV.MEDI VALENCIA | F78: 40 SBB-SKAB/V/2012 | G78: 40 | H78: BG.RMN 2504/TB.KSA 22 | I78: 5557.424 | K78: 5641.294 | L78: =I104-K78 -> 0 | O78: 5372.784 | P78: 73
C79: PT. SENTOSA LAJU ENERGY | E79: MV.MEDI VALENCIA | F79: 42 SBB-SKAB/V/2012 | G79: 42 | H79: BG.RMN 2507/TB.KSA 34 | I79: 5508.668 | J79: BG.RMN 2504 OK | K79: 5133.2 | L79: =I105-K79 -> 0 | O79: 5557.424 | P79: 74
C80: PT. SENTOSA LAJU ENERGY | E80: MV.MEDI VALENCIA | F80: 44 SBB-SKAB/V/2012 | G80: 44 | H80: BG.NOBEL SEA 232/TB.ROBBY 88 | I80: 4002.543 | K80: 5374.845 | L80: =I106-K80 -> 0 | O80: 5514.042 | P80: 75
C81: PT. SENTOSA LAJU ENERGY | D81: 8 | E81: MV.PUFFIN BULKER | F81: 45 SBB-SKAB/VI/2012 | G81: 45 | H81: BG.PRIMA SAKTI 06/TB.DELTA ABADI 3 | I81: 5571.484 | K81: 5321.022 | L81: =I107-K81 -> 0 | O81: 5508.668 | P81: 76
C82: PT. SENTOSA LAJU ENERGY | E82: MV.PUFFIN BULKER | F82: 46 SBB-SKAB/VI/2012 | G82: 46 | H82: BG.RMN 2503/TB.KSA 35 | I82: 5602.958 | J82: BG.RMN 2504 OK | K82: 5317.195 | L82: =I108-K82 -> 0 | O82: 5202.785 | P82: 77
C83: PT. SENTOSA LAJU ENERGY | E83: MV.PUFFIN BULKER | F83: 47 SBB-SKAB/VI/2012 | G83: 47 | H83: BG.RMN 2501/TB.KSA 43 | I83: 5537.824 | K83: 5430.827 | L83: =I109-K83 -> 0 | O83: 4002.543 | P83: 78
C84: PT. ENERGY LESTARI SENTOSA | E84: MV.PUFFIN BULKER | F84: 48 SBB-SKAB/VI/2012 | G84: 48 | H84: BG.RIMAU 2506/TB.LELUASA | I84: 1212.692 | J84: BG.Rimau 2506 ok | K84: 5201.057 | L84: =I110-K84 -> 0 | O84: 5571.484 | P84: 79
C85: PT. SENTOSA LAJU ENERGY | E85: MV.PUFFIN BULKER | F85: 49 SBB-SKAB/VI/2012 | G85: 49 | H85: BG.LIUS EMAS/TB. L. FORTUNA | I85: 5613.645 | K85: 5343.92 | L85: =I111-K85 -> 0 | O85: 5602.958 | P85: 80
C86: PT. SENTOSA LAJU ENERGY | E86: MV.PUFFIN BULKER | F86: 50 SBB-SKAB/VI/2012 | G86: 50 | H86: BG.SEA MASTER I/TB.HIKMAH 02 | I86: 5502.181 | J86: BG.RMN 2504 OK | K86: 5504.461 | L86: =I112-K86 -> 0 | O86: 5537.824 | P86: 81
C87: PT. SENTOSA LAJU ENERGY | E87: MV.PUFFIN BULKER | F87: 51 SBB-SKAB/VI/2012 | G87: 51 | H87: BG.PRIMA SAKTI 06/TB.DELTA ABADI 3 | I87: 5513.989 | K87: 5729.92 | L87: =I113-K87 -> 0 | O87: 5573.978 | P87: 82
C88: PT. SENTOSA LAJU ENERGY | E88: MV.PUFFIN BULKER | F88: 52 SBB-SKAB/VI/2012 | G88: 52 | H88: BG.RIMAU 2506/TB.LELUASA | I88: 4509.552 | K88: 5372.547 | L88: =I114-K88 -> 0 | O88: 5613.645 | P88: 83
C89: PT. SENTOSA LAJU ENERGY | E89: MV.PUFFIN BULKER | F89: 53 SBB-SKAB/VI/2012 | G89: 53 | H89: BG.ROBBY 26/TB.BIG FAIR M T 2 | I89: 5223.953 | J89: BG.Rimau 2506 ok | K89: 5345.598 | L89: =I115-K89 -> 0 | O89: 5502.181 | P89: 84
C90: PT. SENTOSA LAJU ENERGY | E90: MV.PUFFIN BULKER | F90: 54 SBB-SKAB/VI/2012 | G90: 54 | H90: BG.PRIMA SAKTI 06/TB.DELTA ABADI 3 | I90: 5562.871 | K90: 5417.264 | L90: =I116-K90 -> 0 | O90: 5513.989 | P90: 85
C91: PT. SENTOSA LAJU ENERGY | D91: 9 | E91: MV.STAR GLOBE | F91: 55 SBB-SKAB/VI/2012 | G91: 55 | H91: BG.RMN 2507/TB.KSA 34 | I91: 5515.136 | K91: 5518.06 | L91: =I117-K91 -> 0 | O91: 4509.552 | P91: 86
C92: PT. SENTOSA LAJU ENERGY | E92: MV.STAR GLOBE | F92: 56 SBB-SKAB/VI/2012 | G92: 56 | H92: BG.PRIMA SAKTI 06/TB.DELTA ABADI 3 | I92: 4864.796 | J92: BG.Rimau 2506 ok | K92: 5542.69 | L92: =I118-K92 -> 0 | O92: 5223.953 | P92: 87
C93: PT. SENTOSA LAJU ENERGY | E93: MV.STAR GLOBE | F93: 57 SBB-SKAB/VI/2012 | G93: 57 | H93: BG.RMN 2503/TB.KSA 35 | I93: 5548.974 | K93: 5516.523 | L93: =I119-K93 -> 0 | O93: 5562.871 | P93: 88
C94: PT. SENTOSA LAJU ENERGY | E94: MV.STAR GLOBE | F94: 58 SBB-SKAB/VI/2012 | G94: 58 | H94: BG.ASIA STAR 808/TB. KING FISHER 505 | I94: 5541.483 | J94: BG.Rimau 2506 ok | K94: 5688.906 | L94: =I120-K94 -> 0 | O94: 5515.136 | P94: 89
B95: 7 | C95: PT. SENTOSA LAJU ENERGY | D95: 10 | E95: MV. APJ SURYAVIR | F95: 59 SBB-SKAB/VII/2012 | G95: 59 | H95: BG.DIAMOND 1/TB.CLEAVENT 1 | I95: 5433.467 | J95: BG.RMN 2504 TOK | K95: 5573 | L95: =I121-K95 -> -568.299 | O95: 5561.821 | P95: 90
C96: PT. SENTOSA LAJU ENERGY | E96: MV. APJ SURYAVIR | F96: 60 SBB-SKAB/VII/2012 | G96: 60 | H96: BG.RIMAU 2506/TB.LELUASA | I96: 5430.805 | K96: 5572.779 | L96: =I122-K96 -> 0 | O96: 5548.974 | P96: 91
C97: PT. SENTOSA LAJU ENERGY | E97: MV. APJ SURYAVIR | F97: 61 SBB-SKAB/VII/2012 | G97: 61 | H97: BG.PRIMA SAKTI 06/TB.DELTA ABADI 3 | I97: 5487.867 | K97: 5436.477 | L97: =I123-K97 -> 0 | O97: 5541.483 | P97: 92
C98: PT. SENTOSA LAJU ENERGY | E98: MV. APJ SURYAVIR | F98: 62 SBB-SKAB/VII/2012 | G98: 62 | H98: BG.ROBBY 26/TB.BIG FAIR M T 2 | I98: 5195.232 | K98: 5412.606 | L98: =I124-K98 -> 0 | O98: 4361.286 | P98: 93
C99: PT. SENTOSA LAJU ENERGY | E99: MV. APJ SURYAVIR | F99: 63 SBB-SKAB/VII/2012 | G99: 63 | H99: BG.ASIA RIDER 301/TB.KINGFISHER 301 | I99: 5401.159 | K99: 5599.763 | L99: =I125-K99 -> 0 | O99: 5374.875 | P99: 94
B100: 8 | C100: PT. SENTOSA LAJU ENERGY | D100: 11 | E100: MV.ANNE V7 | F100: 64 SBB-SKAB/VIII/2012 | G100: 64 | H100: BG.RMN 2503/TB.KSA 35 | I100: 5363.325 | K100: 5568.142 | L100: =I126-K100 -> 0 | O100: 5530.87 | P100: 95
C101: PT. SENTOSA LAJU ENERGY | E101: MV.ANNE V8 | F101: 65 SBB-SKAB/VIII/2012 | G101: 65 | H101: BG.RMN 2509/TB.KSA 42 | I101: =5684.177-257.336 -> 5426.841 | K101: 5225.895 | L101: =I127-K101 -> 0 | O101: 5577.4 | P101: 96
C102: PT. SENTOSA LAJU ENERGY | D102: 12 | E102: MV. UBC LIMAS | F102: 66 SBB-SKAB/VIII/2012 | G102: 66 | H102: BG.RMN 2507/TB.KSA 34 | I102: 5574.325 | K102: 5499.105 | L102: =I128-K102 -> 0 | O102: 5433.467 | P102: 97
...

Sheet Rumus Royalty
B1: PERHITUNGAN HPB DAN ROYALTY
B4: INPUT DATA | G4: PERHITUNGAN HPB
B6: No SKAB | G6: FKA | H6: =(((((100-8)/(100-C12))*C12))+(100-8))/100 -> 1.5566836
B7: Tanggal | C7: 42005 | G7: Marker | H7: =IF(C10>6850,'HPB Dec 2012'!$B$11,IF(C10>6400,'HPB Dec 2012'!$B$12,IF(C10>=5900,'HPB Dec 2012'!$B$13,IF(C10>=5500,'HPB Dec 2012'!$B$14,IF(C10>=5125,'HPB Dec 2012'!$B$15,IF(C10>=4600,'HPB Dec 2012'!$B$16,IF(C10>=4300,'HPB Dec 2012'!$B$17,'HPB Dec 2012'!$B$18))))))) -> Envirocoal
B8: Quantity | C8: 7488.224 | G8: HPB Marker (USD/ton) | H8: =OFFSET('HBA 2009-2015'!$C$45,MATCH(MONTH(C7)&"-"&YEAR(C7),'HBA 2009-2015'!$B$5:$B$113,0),MATCH(H7,'HBA 2009-2015'!$D$2:$K$2,0)) -> 79.3
B9: CV (kcal/kg ADB | C9: 7500
B10: CV (kcal/kg GAR) | C10: =C9*(100-C12)/(100-C11) -> 5120.7255 | G10: HPB FOB Vessel | H10: =IF(H7= 'HPB Dec 2012'!$B$18,IF(C12<40,((H8+(VLOOKUP(H7,'HPB Dec 2012'!$B$11:$G$18,4,FALSE)-0.8)*4+(VLOOKUP(H7,'HPB Dec 2012'!$B$11:$G$18,5,FALSE)-15)*0.4)*(C10/VLOOKUP(H7,'HPB Dec 2012'!$B$11:$G$18,2,FALSE))*(((100-C12)/(100-VLOOKUP(H7,'HPB Dec 2012'!$B$11:$G$18,3,FALSE))*(100-8/H6))/(100-8/'HPB Dec 2012'!$I$18)))-((C13-0.8)*4+(C14-15)*0.4),((VLOOKUP(H7,'HPB Dec 2012'!$B$11:$G$18,6,FALSE)+(VLOOKUP(H7,'HPB Dec 2012'!$B$11:$G$18,4,FALSE)-0.8)*4+(VLOOKUP(H7,'HPB Dec 2012'!$B$11:$G$18,5,FALSE)-15)*0.4)*(C10/VLOOKUP(H7,'HPB Dec 2012'!$B$11:$G$18,2,FALSE))*(((100-C12)/(100-VLOOKUP(H7,'HPB Dec 2012'!$B$11:$G$18,3,FALSE))*(100-8/H6))/(100-8/'HPB Dec 2012'!$I$18)))),((H8+(VLOOKUP(H7,'HPB Dec 2012'!$B$11:$G$18,4,FALSE)-0.8)*4+(VLOOKUP(H7,'HPB Dec 2012'!$B$11:$G$18,5,FALSE)-15)*0.4)*(C10/VLOOKUP(H7,'HPB Dec 2012'!$B$11:$G$18,2,FALSE))*(((100-C12)/(100-VLOOKUP(H7,'HPB Dec 2012'!$B$11:$G$18,3,FALSE))*(100-8))/(100-8)))-((C13-0.8)*4+(C14-15)*0.4)) -> 61.936821
B11: IM (%, AR) | C11: 13.44
B12: TM (%, AR) | C12: 40.9 | G12: Penyesuaian Biaya FOB Barge :
B13: TS (%, AR) | C13: 0.32 | G13: Biaya Angkutan Tongkang (Barge) | H13: =VLOOKUP($C$15,Tabel!$B$5:$E$9,2,FALSE)*C16 -> 3.5
B14: Ash (%, AR) | C14: 10.1 | G14: Biaya Surveyor | H14: =VLOOKUP($C$15,Tabel!$B$5:$E$9,3,FALSE) -> 0.25
B15: Lokasi | C15: Sumatera | G15: Biaya Transhipment | H15: =VLOOKUP($C$15,Tabel!$B$5:$E$9,4,FALSE) -> 3
B16: Jarak barging | C16: 70 | G16: Jumlah | H16: =SUM(H13:H15) -> 6.75
B17: Terms | C17: CIF
B18: Price per ton | C18: 20.5 | G18: HPB FOB Barge | H18: =+H10-H16 -> 55.186821
G20: Penyesuaian Biaya CIF :
B21: Jenis Vessel | C21: Handy | G21: Biaya Angkutan Tongkang (Barge) | H21: =VLOOKUP($C$15,Tabel!$B$13:$G$17,2,FALSE)*C16 -> 3.5
B22: Jarak Freight | C22: 1000 | G22: Biaya Vessel | H22: =VLOOKUP($C$21,Tabel!$I$13:$J$17,2,FALSE)*C22 -> 3.9
G23: Biaya Surveyor | H23: =VLOOKUP($C$15,Tabel!$B$13:$G$17,3,FALSE) -> 0.25
G24: Biaya asuransi | H24: =VLOOKUP($C$15,Tabel!$B$13:$G$17,4,FALSE)% -> 0.008
G25: Biaya angkutan truk | H25: =VLOOKUP($C$15,Tabel!$B$13:$G$17,5,FALSE)*0 -> 0
G26: Biaya angkutan kereta api | H26: =VLOOKUP($C$15,Tabel!$B$13:$G$17,6,FALSE)*0 -> 0
G27: Jumlah selain asuransi | H27: =SUM(H21:H23,H25:H26) -> 7.65
G29: HPB CIF net | H29: =+H10+H27 -> 69.586821
G31: ="HPB Jual perhitungan royalty" -> HPB Jual perhitungan royalty | H31: =MAX(IF(C17="FOB Barge",H18,IF(C17="FOB Vessel",H10,IF(C17="CIF",H29,"Isi Terms"))),C18) -> 69.586821
G33: Harga jual menurut HPB | H33: =MAX(IF(C17="FOB Barge",H18*C8,IF(C17="FOB Vessel",H10*C8,IF(C17="CIF",(H29*C8)*(1+H24),"Isi Terms"))),C8*C18) -> 525250.35
G35: Tarif | H35: =IF(C10<=5100,3%,IF(C10<6100,5%,7%)) -> 0.05
G37: Jumlah Royalty | H37: =+H33*H35 -> 26262.518

Sheet HBA 2009-2015
A1: Bulan | C1: HBA (USD/Ton) | D1: Marker
D2: Gunung Bayan I | E2: Prima Coal | F2: Pinang 6150 | G2: Indominco IM_East | H2: Melawan Coal | I2: Envirocoal | J2: Jorong J-1 | K2: Ecocoal
D3: 7000 | E3: 6700 | F3: 6150 | G3: 5700 | H3: 5400 | I3: 5000 | J3: 4400 | K3: 4200
A4: 2015
A5: 42339 | B5: =MONTH(A5)&"-"&YEAR(A5) -> 12-2015
A6: 42310 | B6: =MONTH(A6)&"-"&YEAR(A6) -> 11-2015
A7: 42281 | B7: =MONTH(A7)&"-"&YEAR(A7) -> 10-2015
A8: 42252 | B8: =MONTH(A8)&"-"&YEAR(A8) -> 9-2015
A9: 42223 | B9: =MONTH(A9)&"-"&YEAR(A9) -> 8-2015
A10: 42194 | B10: =MONTH(A10)&"-"&YEAR(A10) -> 7-2015
A11: 42165 | B11: =MONTH(A11)&"-"&YEAR(A11) -> 6-2015
A12: 42513
A13: 42484
A14: 42455
A15: 42426
A16: 42397
A17: 42368
A18: 42339
A19: 42310
A20: 42281
A21: 42252
A22: 42223
A23: 42194
A24: 42165
A25: 42136 | B25: =MONTH(A25)&"-"&YEAR(A25) -> 5-2015 | C25: 61.08 | D25: 65.36 | E25: 66.72 | F25: 60.27 | G25: 50.14 | H25: 49.55 | I25: 47.18 | J25: 37.96 | K25: 34.88
A26: 42107 | B26: =MONTH(A26)&"-"&YEAR(A26) -> 4-2015 | C26: 64.48 | D26: 69.04 | E26: 70.16 | F26: 63.37 | G26: 52.89 | H26: 52 | I26: 49.34 | J26: 39.71 | K26: 36.43
A27: 42078 | B27: =MONTH(A27)&"-"&YEAR(A27) -> 3-2015 | C27: 67.76 | D27: 72.6 | E27: 73.49 | F27: 66.36 | G27: 55.54 | H27: 54.36 | I27: 51.43 | J27: 41.4 | K27: 37.93
A28: 42049 | B28: =MONTH(A28)&"-"&YEAR(A28) -> 2-2015 | C28: 62.92 | D28: 67.35 | E28: 68.58 | F28: 61.95 | G28: 51.63 | H28: 50.87 | I28: 48.35 | J28: 38.91 | K28: 35.72
A29: 42020 | B29: =MONTH(A29)&"-"&YEAR(A29) -> 1-2015 | C29: 63.84 | D29: 68.35 | E29: 69.52 | F29: 62.78 | G29: 52.38 | H29: 51.54 | I29: 48.93 | J29: 39.38 | K29: 36.14
A30: Rata2 | C30: =AVERAGE(C5:C29) -> 64.016 | D30: =AVERAGE(D5:D29) -> 68.54 | E30: =AVERAGE(E5:E29) -> 69.694 | F30: =AVERAGE(F5:F29) -> 62.946 | G30: =AVERAGE(G5:G29) -> 52.516 | H30: =AVERAGE(H5:H29) -> 51.664 | I30: =AVERAGE(I5:I29) -> 49.046 | J30: =AVERAGE(J5:J29) -> 39.472 | K30: =AVERAGE(K5:K29) -> 36.22
A31: 2014
A32: 41974 | B32: =MONTH(A32)&"-"&YEAR(A32) -> 12-2014 | C32: 64.65 | D32: 69.23 | E32: 70.34 | F32: 63.52 | G32: 53.03 | H32: 52.12 | I32: 49.45 | J32: 39.8 | K32: 36.51
A33: 41945 | B33: =MONTH(A33)&"-"&YEAR(A33) -> 11-2014 | C33: 65.7 | D33: 70.36 | E33: 71.4 | F33: 64.48 | G33: 53.88 | H33: 52.87 | I33: 50.12 | J33: 40.34 | K33: 36.99
A34: 41916 | B34: =MONTH(A34)&"-"&YEAR(A34) -> 10-2014 | C34: 67.26 | D34: 72.05 | E34: 72.98 | F34: 65.9 | G34: 55.14 | H34: 54 | I34: 51.11 | J34: 41.14 | K34: 37.7
A35: 41887 | B35: =MONTH(A35)&"-"&YEAR(A35) -> 9-2014 | C35: 69.69 | D35: 74.69 | E35: 75.45 | F35: 68.12 | G35: 57.11 | H35: 55.74 | I35: 52.65 | J35: 42.39 | K35: 38.82
A36: 41858 | B36: =MONTH(A36)&"-"&YEAR(A36) -> 8-2014 | C36: 70.29 | D36: 75.34 | E36: 76.05 | F36: 68.66 | G36: 57.59 | H36: 56.18 | I36: 53.03 | J36: 42.7 | K36: 39.09
A37: 41829 | B37: =MONTH(A37)&"-"&YEAR(A37) -> 7-2014 | C37: 72.45 | D37: 77.68 | E37: 78.24 | F37: 70.63 | G37: 59.34 | H37: 57.73 | I37: 54.41 | J37: 43.81 | K37: 40.8
A38: 41800 | B38: =MONTH(A38)&"-"&YEAR(A38) -> 6-2014 | C38: 73.64 | D38: 78.96 | E38: 79.45 | F38: 71.72 | G38: 60.3 | H38: 58.59 | I38: 55.17 | J38: 44.42 | K38: 40.62
A39: 41771 | B39: =MONTH(A39)&"-"&YEAR(A39) -> 5-2014 | C39: 73.6 | D39: 78.92 | E39: 79.41 | F39: 71.68 | G39: 60.27 | H39: 58.56 | I39: 55.14 | J39: 44.4 | K39: 40.61
A40: 41742 | B40: =MONTH(A40)&"-"&YEAR(A40) -> 4-2014 | C40: 74.81 | D40: 80.23 | E40: 80.64 | F40: 72.78 | G40: 61.24 | H40: 59.43 | I40: 55.91 | J40: 45.2 | K40: 41.16
A41: 41713 | B41: =MONTH(A41)&"-"&YEAR(A41) -> 3-2014 | C41: 77.01 | D41: 86.62 | E41: 82.87 | F41: 74.79 | G41: 63.02 | H41: 61.01 | I41: 57.31 | J41: 46.16 | K41: 42.17
A42: 41684 | B42: =MONTH(A42)&"-"&YEAR(A42) -> 2-2014 | C42: 80.44 | D42: 86.33 | E42: 86.34 | F42: 77.91 | G42: 65.8 | H42: 63.48 | I42: 59.49 | J42: 47.92 | K42: 43.74
A43: 41655 | B43: =MONTH(A43)&"-"&YEAR(A43) -> 1-2014 | C43: 81.9 | D43: 87.91 | E43: 87.82 | F43: 79.24 | G43: 66.98 | H43: 64.53 | I43: 60.42 | J43: 48.67 | K43: 44.41
A44: Rata2 | C44: =AVERAGE(C32:C43) -> 72.62 | D44: =AVERAGE(D32:D43) -> 78.193333 | E44: =AVERAGE(E32:E43) -> 78.415833 | F44: =AVERAGE(F32:F43) -> 70.785833 | G44: =AVERAGE(G32:G43) -> 59.475 | H44: =AVERAGE(H32:H43) -> 57.853333 | I44: =AVERAGE(I32:I43) -> 54.5175 | J44: =AVERAGE(J32:J43) -> 43.9125 | K44: =AVERAGE(K32:K43) -> 40.218333
A45: 2013
A46: 41609 | B46: =MONTH(A46)&"-"&YEAR(A46) -> 12-2013 | C46: 80.31 | D46: 86.19 | E46: 86.21 | F46: 77.8 | G46: 65.69 | H46: 63.39 | I46: 59.41 | J46: 47.85 | K46: 43.68
A47: 41580 | B47: =MONTH(A47)&"-"&YEAR(A47) -> 11-2013 | C47: 78.13 | D47: 83.83 | E47: 84 | F47: 75.81 | G47: 63.93 | H47: 61.82 | I47: 58.02 | J47: 46.73 | K47: 42.68
A48: 41551 | B48: =MONTH(A48)&"-"&YEAR(A48) -> 10-2013 | C48: 76.61 | D48: 82.18 | E48: 82.46 | F48: 74.42 | G48: 62.7 | H48: 60.72 | I48: 57.06 | J48: 45.95 | K48: 41.98
A49: 41522 | B49: =MONTH(A49)&"-"&YEAR(A49) -> 9-2013 | C49: 76.89 | D49: 82.49 | E49: 82.74 | F49: 74.68 | G49: 62.93 | H49: 60.93 | I49: 57.23 | J49: 46.09 | K49: 42.11
A50: 41493 | B50: =MONTH(A50)&"-"&YEAR(A50) -> 8-2013 | C50: 76.7 | D50: 82.28 | E50: 82.55 | F50: 74.51 | G50: 62.77 | H50: 60.79 | I50: 57.11 | J50: 46 | K50: 42.03
A51: 41464 | B51: =MONTH(A51)&"-"&YEAR(A51) -> 7-2013 | C51: 81.69 | D51: 87.68 | E51: 87.61 | F51: 79.05 | G51: 66.81 | H51: 64.38 | I51: 60.29 | J51: 48.56 | K51: 44.31
A52: 41435 | B52: =MONTH(A52)&"-"&YEAR(A52) -> 6-2013 | C52: 84.87 | D52: 91.13 | E52: 90.83 | F52: 81.95 | G52: 69.38 | H52: 66.67 | I52: 62.31 | J52: 50.2 | K52: 45.76
A53: 41406 | B53: =MONTH(A53)&"-"&YEAR(A53) -> 5-2013 | C53: 85.33 | D53: 91.63 | E53: 91.3 | F53: 82.37 | G53: 69.75 | H53: 67 | I53: 62.6 | J53: 50.44 | K53: 45.98
A54: 41377 | B54: =MONTH(A54)&"-"&YEAR(A54) -> 4-2013 | C54: 88.56 | D54: 95.13 | E54: 94.57 | F54: 85.31 | G54: 72.36 | H54: 69.32 | I54: 64.66 | J54: 52.1 | K54: 47.45
A55: 41348 | B55: =MONTH(A55)&"-"&YEAR(A55) -> 3-2013 | C55: 90.09 | D55: 96.78 | E55: 96.13 | F55: 86.71 | G55: 73.6 | H55: 70.42 | I55: 65.63 | J55: 52.88 | K55: 48.15
A56: 41319 | B56: =MONTH(A56)&"-"&YEAR(A56) -> 2-2013 | C56: 88.35 | D56: 94.9 | E56: 94.36 | F56: 85.12 | G56: 72.19 | H56: 69.17 | I56: 64.52 | J56: 51.99 | K56: 47.36
A57: 41290 | B57: =MONTH(A57)&"-"&YEAR(A57) -> 1-2013 | C57: 87.55 | D57: 94.03 | E57: 93.55 | F57: 84.4 | G57: 71.55 | H57: 68.6 | I57: 64.02 | J57: 51.58 | K57: 46.99
A58: Rata2 | C58: =AVERAGE(C46:C57) -> 82.923333 | D58: =AVERAGE(D46:D57) -> 89.020833 | E58: =AVERAGE(E46:E57) -> 88.859167 | F58: =AVERAGE(F46:F57) -> 80.1775 | G58: =AVERAGE(G46:G57) -> 67.805 | H58: =AVERAGE(H46:H57) -> 65.2675 | I58: =AVERAGE(I46:I57) -> 61.071667 | J58: =AVERAGE(J46:J57) -> 49.1975 | K58: =AVERAGE(K46:K57) -> 44.873333
A59: 2012
A60: 41244 | B60: =MONTH(A60)&"-"&YEAR(A60) -> 12-2012 | C60: 81.75 | D60: 87.75 | E60: 87.67 | F60: 79.11 | G60: 66.86 | H60: 64.42 | I60: 60.33 | J60: 48.59 | K60: 44.34
A61: 41215 | B61: =MONTH(A61)&"-"&YEAR(A61) -> 11-2012 | C61: 81.44 | D61: 87.41 | E61: 87.36 | F61: 78.83 | G61: 66.61 | H61: 64.2 | I61: 60.13 | J61: 48.43 | K61: 44.19
A62: 41186 | B62: =MONTH(A62)&"-"&YEAR(A62) -> 10-2012 | C62: 86.04 | D62: 92.4 | E62: 92.02 | F62: 83.02 | G62: 70.32 | H62: 67.51 | I62: 63.05 | J62: 50.8 | K62: 46.3
A63: 41157 | B63: =MONTH(A63)&"-"&YEAR(A63) -> 9-2012 | C63: 86.21 | D63: 92.58 | E63: 92.19 | F63: 83.17 | G63: 70.46 | H63: 67.63 | I63: 63.16 | J63: 50.89 | K63: 46.38
A64: 41128 | B64: =MONTH(A64)&"-"&YEAR(A64) -> 8-2012 | C64: 84.65 | D64: 90.89 | E64: 90.61 | F64: 81.75 | G64: 69.2 | H64: 66.51 | I64: 62.17 | J64: 50.09 | K64: 45.66
A65: 41099 | B65: =MONTH(A65)&"-"&YEAR(A65) -> 7-2012 | C65: 87.56 | D65: 94.04 | E65: 93.56 | F65: 84.4 | G65: 71.55 | H65: 68.6 | I65: 64.02 | J65: 51.58 | K65: 47
A66: 41070 | B66: =MONTH(A66)&"-"&YEAR(A66) -> 6-2012 | C66: 96.65 | D66: 103.89 | E66: 102.78 | F66: 92.69 | G66: 78.9 | H66: 75.14 | I66: 69.8 | J66: 56.26 | K66: 51.16
A67: 41041 | B67: =MONTH(A67)&"-"&YEAR(A67) -> 5-2012 | C67: 102.12 | D67: 109.81 | E67: 108.32 | F67: 97.67 | G67: 83.33 | H67: 79.08 | I67: 73.28 | J67: 59.07 | K67: 53.66
A68: 41012 | B68: =MONTH(A68)&"-"&YEAR(A68) -> 4-2012 | C68: 105.61 | D68: 113.59 | E68: 111.86 | F68: 100.85 | G68: 86.15 | H68: 81.59 | I68: 75.5 | J68: 60.87 | K68: 55.26
A69: 40983 | B69: =MONTH(A69)&"-"&YEAR(A69) -> 3-2012 | C69: 112.87 | D69: 121.46 | E69: 119.22 | F69: 107.47 | G69: 92.02 | H69: 86.81 | I69: 80.12 | J69: 64.6 | K69: 58.58
A70: 40954 | B70: =MONTH(A70)&"-"&YEAR(A70) -> 2-2012 | C70: 111.58 | D70: 120.06 | E70: 117.91 | F70: 106.3 | G70: 90.97 | H70: 85.89 | I70: 79.3 | J70: 63.94 | K70: 57.99
A71: 40925 | B71: =MONTH(A71)&"-"&YEAR(A71) -> 1-2012 | C71: 109.29 | D71: 117.58 | E71: 115.59 | F71: 104.21 | G71: 89.12 | H71: 84.24 | I71: 77.84 | J71: 62.76 | K71: 56.94
A72: Rata2 | C72: =AVERAGE(C60:C71) -> 95.480833 | D72: =AVERAGE(D60:D71) -> 102.62167 | E72: =AVERAGE(E60:E71) -> 101.59083 | F72: =AVERAGE(F60:F71) -> 91.6225 | G72: =AVERAGE(G60:G71) -> 77.9575 | H72: =AVERAGE(H60:H71) -> 74.301667 | I72: =AVERAGE(I60:I71) -> 69.058333 | J72: =AVERAGE(J60:J71) -> 55.656667 | K72: =AVERAGE(K60:K71) -> 50.621667
A73: 2011
A74: 40878 | B74: =MONTH(A74)&"-"&YEAR(A74) -> 12-2011 | C74: 112.67 | D74: 121.24 | E74: 119.02 | F74: 107.29 | G74: 91.86 | H74: 86.67 | I74: 79.99 | J74: 64.5 | K74: 58.49
A75: 40849 | B75: =MONTH(A75)&"-"&YEAR(A75) -> 11-2011 | C75: 116.65 | D75: 125.55 | E75: 123.05 | F75: 110.92 | G75: 95.07 | H75: 89.53 | I75: 82.53 | J75: 66.55 | K75: 60.31
A76: 40820 | B76: =MONTH(A76)&"-"&YEAR(A76) -> 10-2011 | C76: 119.24 | D76: 128.36 | E76: 125.68 | F76: 113.28 | G76: 97.17 | H76: 91.4 | I76: 84.17 | J76: 67.88 | K76: 61.5
A77: 40791 | B77: =MONTH(A77)&"-"&YEAR(A77) -> 9-2011 | C77: 116.26 | D77: 125.13 | E77: 122.65 | F77: 110.56 | G77: 94.76 | H77: 89.25 | I77: 82.28 | J77: 66.35 | K77: 60.13
A78: 40762 | B78: =MONTH(A78)&"-"&YEAR(A78) -> 8-2011 | C78: 117.21 | D78: 126.16 | E78: 123.62 | F78: 111.43 | G78: 95.53 | H78: 89.94 | I78: 82.88 | J78: 66.84 | K78: 60.57
A79: 40733 | B79: =MONTH(A79)&"-"&YEAR(A79) -> 7-2011 | C79: 118.24 | D79: 127.27 | E79: 124.66 | F79: 112.37 | G79: 96.36 | H79: 90.68 | I79: 83.54 | J79: 67.37 | K79: 61.04
A80: 40704 | B80: =MONTH(A80)&"-"&YEAR(A80) -> 6-2011 | C80: 119.03 | D80: 128.13 | E80: 125.46 | F80: 113.09 | G80: 97 | H80: 91.25 | I80: 84.04 | J80: 67.77 | K80: 61.4
A81: 40675 | B81: =MONTH(A81)&"-"&YEAR(A81) -> 5-2011 | C81: 117.61 | D81: 126.59 | E81: 124.02 | F81: 111.79 | G81: 95.85 | H81: 90.22 | I81: 83.14 | J81: 67.04 | K81: 60.75
A82: 40646 | B82: =MONTH(A82)&"-"&YEAR(A82) -> 4-2011 | C82: 122.02 | D82: 131.37 | E82: 128.49 | F82: 115.81 | G82: 99.41 | H82: 93.4 | I82: 85.94 | J82: 69.31 | K82: 62.77
A83: 40617 | B83: =MONTH(A83)&"-"&YEAR(A83) -> 3-2011 | C83: 122.43 | D83: 132.01 | E83: 127.71 | F83: 115.03 | G83: 99.56 | H83: 92.29 | I83: 84.12 | J83: 67.89 | K83: 61.23
A84: 40588 | B84: =MONTH(A84)&"-"&YEAR(A84) -> 2-2011 | C84: 127.05 | D84: 137.02 | E84: 132.39 | F84: 119.25 | G84: 103.29 | H84: 95.62 | I84: 87.06 | J84: 70.26 | K84: 63.34
A85: 40559 | B85: =MONTH(A85)&"-"&YEAR(A85) -> 1-2011 | C85: 112.4 | D85: 121.15 | E85: 117.54 | F85: 105.89 | G85: 91.45 | H85: 85.08 | I85: 77.74 | J85: 62.73 | K85: 56.64
A86: Rata2 | C86: 118.4 | D86: 128.08 | E86: 125.16 | F86: 112.8 | G86: 96.89 | H86: 90.93 | I86: 83.61 | J86: 67.43 | K86: 61.05
A87: 2010
A88: 40513 | B88: =MONTH(A88)&"-"&YEAR(A88) -> 12-2010 | C88: 103.41 | D88: 111.41 | E88: 108.43 | F88: 97.7 | G88: 84.18 | H88: 78.61 | I88: 72.02 | J88: 58.1 | K88: 52.52
A89: 40484 | B89: =MONTH(A89)&"-"&YEAR(A89) -> 11-2010 | C89: 95.51 | D89: 102.85 | E89: 100.42 | F89: 90.5 | G89: 77.79 | H89: 72.92 | I89: 67 | J89: 54.04 | K89: 48.9
A90: 40455 | B90: =MONTH(A90)&"-"&YEAR(A90) -> 10-2010 | C90: 92.68 | D90: 99.79 | E90: 97.55 | F90: 87.92 | G90: 75.5 | H90: 70.89 | I90: 65.2 | J90: 52.58 | K90: 47.61
A91: 40426 | B91: =MONTH(A91)&"-"&YEAR(A91) -> 9-2010 | C91: 90.05 | D91: 96.94 | E91: 94.88 | F91: 85.52 | G91: 73.38 | H91: 68.99 | I91: 63.53 | J91: 51.23 | K91: 46.41
A92: 40397 | B92: =MONTH(A92)&"-"&YEAR(A92) -> 8-2010 | C92: 94.86 | D92: 102.15 | E92: 99.76 | F92: 89.91 | G92: 77.27 | H92: 72.46 | I92: 66.59 | J92: 53.7 | K92: 48.61
A93: 40368 | B93: =MONTH(A93)&"-"&YEAR(A93) -> 7-2010 | C93: 96.65 | D93: 104.09 | E93: 101.58 | F93: 91.54 | G93: 78.71 | H93: 73.74 | I93: 67.72 | J93: 54.62 | K93: 49.43
A94: 40339 | B94: =MONTH(A94)&"-"&YEAR(A94) -> 6-2010 | C94: 97.22 | D94: 104.71 | E94: 102.16 | F94: 92.06 | G94: 79.18 | H94: 74.16 | I94: 68.09 | J94: 54.92 | K94: 50.82
A95: 40310 | B95: =MONTH(A95)&"-"&YEAR(A95) -> 5-2010 | C95: 92.07 | D95: 99.13 | E95: 96.93 | F95: 87.36 | G95: 75.01 | H95: 70.45 | I95: 64.81 | J95: 52.27 | K95: 48.41
A96: 40281 | B96: =MONTH(A96)&"-"&YEAR(A96) -> 4-2010 | C96: 86.58 | D96: 93.18 | E96: 91.37 | F96: 82.36 | G96: 70.57 | H96: 66.5 | I96: 61.32 | J96: 49.44 | K96: 45.83
A97: 40252 | B97: =MONTH(A97)&"-"&YEAR(A97) -> 3-2010 | C97: 86.64 | D97: 93.25 | E97: 91.43 | F97: 82.41 | G97: 70.62 | H97: 66.54 | I97: 61.36 | J97: 49.47 | K97: 45.86
A98: 40223 | B98: =MONTH(A98)&"-"&YEAR(A98) -> 2-2010 | C98: 87.81 | D98: 94.61 | E98: 92.7 | F98: 83.56 | G98: 71.63 | H98: 67.44 | I98: 62.15 | J98: 50.12 | K98: 46.45
A99: 40194 | B99: =MONTH(A99)&"-"&YEAR(A99) -> 1-2010 | C99: 77.39 | D99: 83.22 | E99: 82.05 | F99: 73.98 | G99: 63.14 | H99: 59.88 | I99: 55.47 | J99: 44.71 | K99: 41.51
A100: Rata2 | C100: 91.74 | D100: 111.1 | E100: 108.54 | F100: 97.82 | G100: 84.04 | H100: 78.85 | I100: 72.48 | J100: 58.46 | K100: 53.22
...

Sheet Tabel
B3: Penyesuaian Biaya FOB Barge
A4: No | B4: Wilayah | C4: Barging (USD/ton/mile) | D4: Surveyor (USD/ton) | E4: Transhipment (USD/ton)
A5: 1 | B5: Sumatera | C5: 0.05 | D5: 0.25 | E5: 3
A6: 2 | B6: Kalimantan Selatan | C6: 0.035 | D6: 0.25 | E6: 4
A7: 3 | B7: Kalimantan Tengah | C7: 0.03 | D7: 0.25 | E7: 4
A8: 4 | B8: Kalimantan Timur | C8: 0.02 | D8: 0.25 | E8: 3.9
A9: 5 | B9: Kalimantan Barat | C9: 0.03 | D9: 0.25 | E9: 3.5
B11: Penyesuaian Biaya CIF
A12: No | B12: Wilayah | C12: Barging (USD/ton/mile) | D12: Draught Survey (USD/ton) | E12: Asuransi (%/shipment) | F12: Angkutan Truk Rp/ton/km | G12: Angkutan Kereta Api Rp/ton/km | I12: Jenis | J12: Vessel (USD/ton/mile)
A13: 1 | B13: Sumatera | C13: 0.05 | D13: 0.25 | E13: 0.8 | F13: 750 | G13: 350 | I13: Capesize | J13: 0.003
A14: 2 | B14: Kalimantan Selatan | C14: 0.035 | D14: 0.25 | E14: 0.8 | F14: 1000 | I14: Panamax | J14: 0.0034
A15: 3 | B15: Kalimantan Tengah | C15: 0.03 | D15: 0.25 | E15: 0.8 | F15: 1000 | I15: Handymax | J15: 0.0037
A16: 4 | B16: Kalimantan Timur | C16: 0.02 | D16: 0.25 | E16: 0.8 | F16: 1000 | I16: Handy | J16: 0.0039
A17: 5 | B17: Kalimantan Barat | C17: 0.03 | D17: 0.25 | E17: 0.8 | F17: 1000

Sheet Chart

Sheet HPB Dec 2012
A1: HARGA BATUBARA ACUAN (HBA) & HARGA PATOKAN BATUBARA (HPB)
A2: BULAN DESEMBER 2012
A3: HBA
A5: HBA
B6: HBA (US$/Ton) | C6: 81.75 | D6: FOB Vessel
A8: HPB BATUBARA MARKER
A9: No | B9: Merek Dagang | C9: KUALITAS TYPICAL | G9: HPB | I9: FKA | J9: Marker | K9: Rumus a | L9: Selisih pembulatan | N9: Koefisien a | O9: Koefisien b | P9: Rumus b Koefisien | Q9: Selisih Rumus b
C10: CV (kcal/kg GAR) | D10: TM (%, AR) | E10: TS (%, AR) | F10: Ash (%, AR) | G10: Marker (USD/ton)
A11: 1 | B11: Gunung Bayan I | C11: 7000 | D11: 10 | E11: 1 | F11: 15 | G11: 87.75 | K11: =ROUND($C$6*C11/6322*(100-D11)/(100-8)-((E11-0.8)*4+(F11-15)*0.4),2) -> 87.75 | L11: =+G11-K11 -> 0
A12: 2 | B12: Prima Coal | C12: 6700 | D12: 12 | E12: 0.6 | F12: 5 | G12: 87.67 | K12: =ROUND($C$6*C12/6322*(100-D12)/(100-8)-((E12-0.8)*4+(F12-15)*0.4),2) -> 87.67 | L12: =+G12-K12 -> 0
A13: 3 | B13: Pinang 6150 | C13: 6200 | D13: 14.5 | E13: 0.6 | F13: 5.5 | G13: 79.11 | K13: =ROUND($C$6*C13/6322*(100-D13)/(100-8)-((E13-0.8)*4+(F13-15)*0.4),2) -> 79.11 | L13: =+G13-K13 -> 0
A14: 4 | B14: Indominco IM_East | C14: 5700 | D14: 17.5 | E14: 1.6 | F14: 4.8 | G14: 66.86 | K14: =ROUND($C$6*C14/6322*(100-D14)/(100-8)-((E14-0.8)*4+(F14-15)*0.4),2) -> 66.98 | L14: =+G14-K14 -> -0.12
A15: 5 | B15: Melawan Coal | C15: 5400 | D15: 22.5 | E15: 0.4 | F15: 5 | G15: 64.42 | K15: =ROUND($C$6*C15/6322*(100-D15)/(100-8)-((E15-0.8)*4+(F15-15)*0.4),2) -> 64.42 | L15: =+G15-K15 -> 0
A16: 6 | B16: Envirocoal | C16: 5000 | D16: 26 | E16: 0.1 | F16: 1.2 | G16: 60.33 | K16: =ROUND($C$6*C16/6322*(100-D16)/(100-8)-((E16-0.8)*4+(F16-15)*0.4),2) -> 60.33 | L16: =+G16-K16 -> 0
A17: 7 | B17: Jorong J-1 | C17: 4400 | D17: 32 | E17: 0.3 | F17: 4.2 | G17: 48.59 | K17: =ROUND($C$6*C17/6322*(100-D17)/(100-8)-((E17-0.8)*4+(F17-15)*0.4),2) -> 48.37 | L17: =+G17-K17 -> 0.22
A18: 8 | B18: Ecocoal | C18: 4200 | D18: 35 | E18: 0.18 | F18: 3.9 | G18: 44.34 | I18: =(((((100-8)/(100-D18))*D18))+(100-8))/100 -> 1.4153846 | K18: =ROUND($C$6*C18/6322*(100-D18)/(100-8/I18)-((E18-0.8)*4+(F18-15)*0.4),2) -> 44.34 | L18: =+G18-K18 -> 0
A20: HPB BATUBARA LAINNYA
A21: 9 | B21: Gunung Bayan II | C21: 7000 | D21: 12 | E21: 2 | F21: 10 | G21: 83.78 | J21: Gunung Bayan I | K21: =((VLOOKUP(J21,$B$11:$G$18,6,FALSE)+(VLOOKUP(J21,$B$11:$G$18,4,FALSE)-0.8)*4+(VLOOKUP(J21,$B$11:$G$18,5,FALSE)-15)*0.4)*(C21/VLOOKUP(J21,$B$11:$G$18,2,FALSE))*(((100-D21)/(100-VLOOKUP(J21,$B$11:$G$18,3,FALSE))*(100-8))/(100-8)))-((E21-0.8)*4+(F21-15)*0.4) -> 83.782222 | L21: =G21-K21 -> -0.0022222222 | N21: 0.9778 | O21: -2.0181 | P21: =+N21*VLOOKUP(J21,$B$11:$G$18,6,FALSE)+O21 -> 83.78385 | Q21: =+G21-P21 -> -0.00385
A22: 10 | B22: Marunda Thermal Coal | C22: 6600 | D22: 11 | E22: 0.5 | F22: 10 | G22: 85.76 | J22: Prima Coal | K22: =((VLOOKUP(J22,$B$11:$G$18,6,FALSE)+(VLOOKUP(J22,$B$11:$G$18,4,FALSE)-0.8)*4+(VLOOKUP(J22,$B$11:$G$18,5,FALSE)-15)*0.4)*(C22/VLOOKUP(J22,$B$11:$G$18,2,FALSE))*(((100-D22)/(100-VLOOKUP(J22,$B$11:$G$18,3,FALSE))*(100-8))/(100-8)))-((E22-0.8)*4+(F22-15)*0.4) -> 85.760784 | L22: =G22-K22 -> -0.00078358209 | N22: 0.9963 | O22: -1.582 | P22: =+N22*VLOOKUP(J22,$B$11:$G$18,6,FALSE)+O22 -> 85.763621 | Q22: =+G22-P22 -> -0.003621
A23: 11 | B23: Trubaindo HCV_HS | C23: 6553 | D23: 12 | E23: 1.69 | F23: 4.2 | G23: 81.81 | J23: Prima Coal | K23: =((VLOOKUP(J23,$B$11:$G$18,6,FALSE)+(VLOOKUP(J23,$B$11:$G$18,4,FALSE)-0.8)*4+(VLOOKUP(J23,$B$11:$G$18,5,FALSE)-15)*0.4)*(C23/VLOOKUP(J23,$B$11:$G$18,2,FALSE))*(((100-D23)/(100-VLOOKUP(J23,$B$11:$G$18,3,FALSE))*(100-8))/(100-8)))-((E23-0.8)*4+(F23-15)*0.4) -> 81.811807 | L23: =G23-K23 -> -0.0018074627 | N23: 0.9781 | O23: -3.939 | P23: =+N23*VLOOKUP(J23,$B$11:$G$18,6,FALSE)+O23 -> 81.811027 | Q23: =+G23-P23 -> -0.001027
A24: 12 | B24: Trubaindo HCV_LS | C24: 6423 | D24: 11.5 | E24: 0.71 | F24: 4.8 | G24: 84.35 | J24: Prima Coal | K24: =((VLOOKUP(J24,$B$11:$G$18,6,FALSE)+(VLOOKUP(J24,$B$11:$G$18,4,FALSE)-0.8)*4+(VLOOKUP(J24,$B$11:$G$18,5,FALSE)-15)*0.4)*(C24/VLOOKUP(J24,$B$11:$G$18,2,FALSE))*(((100-D24)/(100-VLOOKUP(J24,$B$11:$G$18,3,FALSE))*(100-8))/(100-8)))-((E24-0.8)*4+(F24-15)*0.4) -> 84.335268 | L24: =G24-K24 -> 0.014732217 | N24: 0.9641 | O24: -0.172 | P24: =+N24*VLOOKUP(J24,$B$11:$G$18,6,FALSE)+O24 -> 84.350647 | Q24: =+G24-P24 -> -0.000647
A25: 13 | B25: Tanjung Formation Coal | C25: 6420 | D25: 11 | E25: 0.7 | F25: 12.5 | G25: 81.71 | J25: Prima Coal | K25: =((VLOOKUP(J25,$B$11:$G$18,6,FALSE)+(VLOOKUP(J25,$B$11:$G$18,4,FALSE)-0.8)*4+(VLOOKUP(J25,$B$11:$G$18,5,FALSE)-15)*0.4)*(C25/VLOOKUP(J25,$B$11:$G$18,2,FALSE))*(((100-D25)/(100-VLOOKUP(J25,$B$11:$G$18,3,FALSE))*(100-8))/(100-8)))-((E25-0.8)*4+(F25-15)*0.4) -> 81.709126 | L25: =G25-K25 -> 0.00087415197 | N25: 0.9691 | O25: -3.252 | P25: =+N25*VLOOKUP(J25,$B$11:$G$18,6,FALSE)+O25 -> 81.708997 | Q25: =+G25-P25 -> 0.001003
A26: 14 | B26: Pinang 6000 NAR | C26: 6300 | D26: 14 | E26: 0.6 | F26: 5.5 | G26: 80.75 | J26: Pinang 6150 | K26: =((VLOOKUP(J26,$B$11:$G$18,6,FALSE)+(VLOOKUP(J26,$B$11:$G$18,4,FALSE)-0.8)*4+(VLOOKUP(J26,$B$11:$G$18,5,FALSE)-15)*0.4)*(C26/VLOOKUP(J26,$B$11:$G$18,2,FALSE))*(((100-D26)/(100-VLOOKUP(J26,$B$11:$G$18,3,FALSE))*(100-8))/(100-8)))-((E26-0.8)*4+(F26-15)*0.4) -> 80.754533 | L26: =G26-K26 -> -0.004533107 | N26: 1.0221 | O26: -0.102 | P26: =+N26*VLOOKUP(J26,$B$11:$G$18,6,FALSE)+O26 -> 80.756331 | Q26: =+G26-P26 -> -0.006331
A27: 15 | B27: Arutmin Satui 10 | C27: 6300 | D27: 11 | E27: 1 | F27: 10 | G27: 80.01 | J27: Pinang 6150 | K27: =((VLOOKUP(J27,$B$11:$G$18,6,FALSE)+(VLOOKUP(J27,$B$11:$G$18,4,FALSE)-0.8)*4+(VLOOKUP(J27,$B$11:$G$18,5,FALSE)-15)*0.4)*(C27/VLOOKUP(J27,$B$11:$G$18,2,FALSE))*(((100-D27)/(100-VLOOKUP(J27,$B$11:$G$18,3,FALSE))*(100-8))/(100-8)))-((E27-0.8)*4+(F27-15)*0.4) -> 80.011087 | L27: =G27-K27 -> -0.0010865874 | N27: 1.0577 | O27: -3.666 | P27: =+N27*VLOOKUP(J27,$B$11:$G$18,6,FALSE)+O27 -> 80.008647 | Q27: =+G27-P27 -> 0.001353
A28: 16 | B28: Arutmin Senakin | C28: 6250 | D28: 11 | E28: 1 | F28: 12 | G28: 78.58 | J28: Pinang 6150 | K28: =((VLOOKUP(J28,$B$11:$G$18,6,FALSE)+(VLOOKUP(J28,$B$11:$G$18,4,FALSE)-0.8)*4+(VLOOKUP(J28,$B$11:$G$18,5,FALSE)-15)*0.4)*(C28/VLOOKUP(J28,$B$11:$G$18,2,FALSE))*(((100-D28)/(100-VLOOKUP(J28,$B$11:$G$18,3,FALSE))*(100-8))/(100-8)))-((E28-0.8)*4+(F28-15)*0.4) -> 78.585602 | L28: =G28-K28 -> -0.0056017733 | N28: 1.0493 | O28: -4.427 | P28: =+N28*VLOOKUP(J28,$B$11:$G$18,6,FALSE)+O28 -> 78.583123 | Q28: =+G28-P28 -> -0.003123
A29: 17 | B29: Arutmin A6250 | C29: 6250 | D29: 10 | E29: 1.2 | F29: 12 | G29: 78.66 | J29: Pinang 6150 | K29: =((VLOOKUP(J29,$B$11:$G$18,6,FALSE)+(VLOOKUP(J29,$B$11:$G$18,4,FALSE)-0.8)*4+(VLOOKUP(J29,$B$11:$G$18,5,FALSE)-15)*0.4)*(C29/VLOOKUP(J29,$B$11:$G$18,2,FALSE))*(((100-D29)/(100-VLOOKUP(J29,$B$11:$G$18,3,FALSE))*(100-8))/(100-8)))-((E29-0.8)*4+(F29-15)*0.4) -> 78.664092 | L29: =G29-K29 -> -0.0040916808 | N29: 1.0611 | O29: -5.281 | P29: =+N29*VLOOKUP(J29,$B$11:$G$18,6,FALSE)+O29 -> 78.662621 | Q29: =+G29-P29 -> -0.002621
A30: 18 | B30: Mandiri A | C30: 6210 | D30: 10 | E30: 0.7 | F30: 4.7 | G30: 83.1 | J30: Pinang 6150 | K30: =((VLOOKUP(J30,$B$11:$G$18,6,FALSE)+(VLOOKUP(J30,$B$11:$G$18,4,FALSE)-0.8)*4+(VLOOKUP(J30,$B$11:$G$18,5,FALSE)-15)*0.4)*(C30/VLOOKUP(J30,$B$11:$G$18,2,FALSE))*(((100-D30)/(100-VLOOKUP(J30,$B$11:$G$18,3,FALSE))*(100-8))/(100-8)))-((E30-0.8)*4+(F30-15)*0.4) -> 83.078081 | L30: =G30-K30 -> 0.021918506 | N30: 1.0543 | O30: -0.31 | P30: =+N30*VLOOKUP(J30,$B$11:$G$18,6,FALSE)+O30 -> 83.095673 | Q30: =+G30-P30 -> 0.004327
A31: 19 | B31: Wahana Coal | C31: 6200 | D31: 12 | E31: 0.9 | F31: 10 | G31: 78.29 | J31: Pinang 6150 | K31: =((VLOOKUP(J31,$B$11:$G$18,6,FALSE)+(VLOOKUP(J31,$B$11:$G$18,4,FALSE)-0.8)*4+(VLOOKUP(J31,$B$11:$G$18,5,FALSE)-15)*0.4)*(C31/VLOOKUP(J31,$B$11:$G$18,2,FALSE))*(((100-D31)/(100-VLOOKUP(J31,$B$11:$G$18,3,FALSE))*(100-8))/(100-8)))-((E31-0.8)*4+(F31-15)*0.4) -> 78.288655 | L31: =G31-K31 -> 0.0013450292 | N31: 1.0292 | O31: -3.135 | P31: =+N31*VLOOKUP(J31,$B$11:$G$18,6,FALSE)+O31 -> 78.285012 | Q31: =+G31-P31 -> 0.004988
A32: 20 | B32: Medco Bara | C32: 6200 | D32: 10 | E32: 4 | F32: 12 | G32: 66.83 | J32: Pinang 6150 | K32: =((VLOOKUP(J32,$B$11:$G$18,6,FALSE)+(VLOOKUP(J32,$B$11:$G$18,4,FALSE)-0.8)*4+(VLOOKUP(J32,$B$11:$G$18,5,FALSE)-15)*0.4)*(C32/VLOOKUP(J32,$B$11:$G$18,2,FALSE))*(((100-D32)/(100-VLOOKUP(J32,$B$11:$G$18,3,FALSE))*(100-8))/(100-8)))-((E32-0.8)*4+(F32-15)*0.4) -> 66.831579 | L32: =G32-K32 -> -0.0015789474 | P32: =+N32*VLOOKUP(J32,$B$11:$G$18,6,FALSE)+O32 -> 0 | Q32: =+G32-P32 -> 66.83
A33: 21 | B33: Indominco IM_West / 6500 | C33: 6171 | D33: 15.5 | E33: 0.76 | F33: 5.2 | G33: 77.36 | J33: Pinang 6150 | K33: =((VLOOKUP(J33,$B$11:$G$18,6,FALSE)+(VLOOKUP(J33,$B$11:$G$18,4,FALSE)-0.8)*4+(VLOOKUP(J33,$B$11:$G$18,5,FALSE)-15)*0.4)*(C33/VLOOKUP(J33,$B$11:$G$18,2,FALSE))*(((100-D33)/(100-VLOOKUP(J33,$B$11:$G$18,3,FALSE))*(100-8))/(100-8)))-((E33-0.8)*4+(F33-15)*0.4) -> 77.3741 | L33: =G33-K33 -> -0.014099689 | N33: 0.9837 | O33: -0.453 | P33: =+N33*VLOOKUP(J33,$B$11:$G$18,6,FALSE)+O33 -> 77.367507 | Q33: =+G33-P33 -> -0.007507
A34: 22 | B34: TAJ Coal | C34: 6200 | D34: 10 | E34: 1 | F34: 14 | G34: 78.03 | J34: Pinang 6150 | K34: =((VLOOKUP(J34,$B$11:$G$18,6,FALSE)+(VLOOKUP(J34,$B$11:$G$18,4,FALSE)-0.8)*4+(VLOOKUP(J34,$B$11:$G$18,5,FALSE)-15)*0.4)*(C34/VLOOKUP(J34,$B$11:$G$18,2,FALSE))*(((100-D34)/(100-VLOOKUP(J34,$B$11:$G$18,3,FALSE))*(100-8))/(100-8)))-((E34-0.8)*4+(F34-15)*0.4) -> 78.031579 | L34: =G34-K34 -> -0.0015789474 | N34: 1.0292 | O34: -5.135 | P34: =+N34*VLOOKUP(J34,$B$11:$G$18,6,FALSE)+O34 -> 76.285012 | Q34: =+G34-P34 -> 1.744988
A35: 23 | B35: Mandiri B | C35: 6148 | D35: 10 | E35: 1.26 | F35: 4.7 | G35: 80.05 | J35: Pinang 6150 | K35: =((VLOOKUP(J35,$B$11:$G$18,6,FALSE)+(VLOOKUP(J35,$B$11:$G$18,4,FALSE)-0.8)*4+(VLOOKUP(J35,$B$11:$G$18,5,FALSE)-15)*0.4)*(C35/VLOOKUP(J35,$B$11:$G$18,2,FALSE))*(((100-D35)/(100-VLOOKUP(J35,$B$11:$G$18,3,FALSE))*(100-8))/(100-8)))-((E35-0.8)*4+(F35-15)*0.4) -> 80.053766 | L35: =G35-K35 -> -0.0037657046 | N35: 1.0438 | O35: -2.521 | P35: =+N35*VLOOKUP(J35,$B$11:$G$18,6,FALSE)+O35 -> 80.054018 | Q35: =+G35-P35 -> -0.004018
A36: 24 | B36: Trubaindo MCV_LS | C36: 6143 | D36: 14 | E36: 0.76 | F36: 5.2 | G36: 78.33 | J36: Pinang 6150 | K36: =((VLOOKUP(J36,$B$11:$G$18,6,FALSE)+(VLOOKUP(J36,$B$11:$G$18,4,FALSE)-0.8)*4+(VLOOKUP(J36,$B$11:$G$18,5,FALSE)-15)*0.4)*(C36/VLOOKUP(J36,$B$11:$G$18,2,FALSE))*(((100-D36)/(100-VLOOKUP(J36,$B$11:$G$18,3,FALSE))*(100-8))/(100-8)))-((E36-0.8)*4+(F36-15)*0.4) -> 78.336714 | L36: =G36-K36 -> -0.0067137899 | N36: 0.9966 | O36: -0.504 | P36: =+N36*VLOOKUP(J36,$B$11:$G$18,6,FALSE)+O36 -> 78.337026 | Q36: =+G36-P36 -> -0.007026
A37: 25 | B37: SKB Coal | C37: 6130 | D37: 9 | E37: 2.2 | F37: 17 | G37: 72.01 | J37: Pinang 6150 | K37: =((VLOOKUP(J37,$B$11:$G$18,6,FALSE)+(VLOOKUP(J37,$B$11:$G$18,4,FALSE)-0.8)*4+(VLOOKUP(J37,$B$11:$G$18,5,FALSE)-15)*0.4)*(C37/VLOOKUP(J37,$B$11:$G$18,2,FALSE))*(((100-D37)/(100-VLOOKUP(J37,$B$11:$G$18,3,FALSE))*(100-8))/(100-8)))-((E37-0.8)*4+(F37-15)*0.4) -> 72.007684 | L37: =G37-K37 -> 0.0023159781 | N37: 1.0523 | O37: -11.241 | P37: =+N37*VLOOKUP(J37,$B$11:$G$18,6,FALSE)+O37 -> 72.006453 | Q37: =+G37-P37 -> 0.003547
A38: 26 | B38: Baramarta Coal | C38: 6112 | D38: 9.5 | E38: 0.95 | F38: 13 | G38: 77.95 | J38: Pinang 6150 | K38: =((VLOOKUP(J38,$B$11:$G$18,6,FALSE)+(VLOOKUP(J38,$B$11:$G$18,4,FALSE)-0.8)*4+(VLOOKUP(J38,$B$11:$G$18,5,FALSE)-15)*0.4)*(C38/VLOOKUP(J38,$B$11:$G$18,2,FALSE))*(((100-D38)/(100-VLOOKUP(J38,$B$11:$G$18,3,FALSE))*(100-8))/(100-8)))-((E38-0.8)*4+(F38-15)*0.4) -> 77.947903 | L38: =G38-K38 -> 0.0020970383 | N38: 1.0435 | O38: -4.6 | P38: =+N38*VLOOKUP(J38,$B$11:$G$18,6,FALSE)+O38 -> 77.951285 | Q38: =+G38-P38 -> -0.001285
A39: 27 | B39: Arutmin A6100 | C39: 6100 | D39: 11.5 | E39: 1 | F39: 12.5 | G39: 76.08 | J39: Pinang 6150 | K39: =((VLOOKUP(J39,$B$11:$G$18,6,FALSE)+(VLOOKUP(J39,$B$11:$G$18,4,FALSE)-0.8)*4+(VLOOKUP(J39,$B$11:$G$18,5,FALSE)-15)*0.4)*(C39/VLOOKUP(J39,$B$11:$G$18,2,FALSE))*(((100-D39)/(100-VLOOKUP(J39,$B$11:$G$18,3,FALSE))*(100-8))/(100-8)))-((E39-0.8)*4+(F39-15)*0.4) -> 76.080444 | L39: =G39-K39 -> -0.0004442558 | N39: 1.0184 | O39: -4.485 | P39: =+N39*VLOOKUP(J39,$B$11:$G$18,6,FALSE)+O39 -> 76.080624 | Q39: =+G39-P39 -> -0.000624
A40: 28 | B40: Insani Coal | C40: 6050 | D40: 19 | E40: 0.15 | F40: 3.2 | G40: 76.22 | J40: Pinang 6150 | K40: =((VLOOKUP(J40,$B$11:$G$18,6,FALSE)+(VLOOKUP(J40,$B$11:$G$18,4,FALSE)-0.8)*4+(VLOOKUP(J40,$B$11:$G$18,5,FALSE)-15)*0.4)*(C40/VLOOKUP(J40,$B$11:$G$18,2,FALSE))*(((100-D40)/(100-VLOOKUP(J40,$B$11:$G$18,3,FALSE))*(100-8))/(100-8)))-((E40-0.8)*4+(F40-15)*0.4) -> 76.200637 | L40: =G40-K40 -> 0.019363328 | N40: 0.9244 | O40: 3.088 | P40: =+N40*VLOOKUP(J40,$B$11:$G$18,6,FALSE)+O40 -> 76.217284 | Q40: =+G40-P40 -> 0.002716
A41: 29 | B41: BCS Coal | C41: 5915 | D41: 15.1 | E41: 0.56 | F41: 9.4 | G41: 73.78 | J41: Pinang 6150 | K41: =((VLOOKUP(J41,$B$11:$G$18,6,FALSE)+(VLOOKUP(J41,$B$11:$G$18,4,FALSE)-0.8)*4+(VLOOKUP(J41,$B$11:$G$18,5,FALSE)-15)*0.4)*(C41/VLOOKUP(J41,$B$11:$G$18,2,FALSE))*(((100-D41)/(100-VLOOKUP(J41,$B$11:$G$18,3,FALSE))*(100-8))/(100-8)))-((E41-0.8)*4+(F41-15)*0.4) -> 73.786102 | L41: =G41-K41 -> -0.0061018393 | N41: 0.9557 | O41: -0.724 | P41: =+N41*VLOOKUP(J41,$B$11:$G$18,6,FALSE)+O41 -> 74.881427 | Q41: =+G41-P41 -> -1.101427
A42: 30 | B42: Indominco IM_West / 6350 | C42: 6029 | D42: 15.5 | E42: 0.71 | F42: 5.2 | G42: 75.88 | J42: Pinang 6150 | K42: =((VLOOKUP(J42,$B$11:$G$18,6,FALSE)+(VLOOKUP(J42,$B$11:$G$18,4,FALSE)-0.8)*4+(VLOOKUP(J42,$B$11:$G$18,5,FALSE)-15)*0.4)*(C42/VLOOKUP(J42,$B$11:$G$18,2,FALSE))*(((100-D42)/(100-VLOOKUP(J42,$B$11:$G$18,3,FALSE))*(100-8))/(100-8)))-((E42-0.8)*4+(F42-15)*0.4) -> 75.88754 | L42: =G42-K42 -> -0.0075396246 | N42: 0.961 | O42: -0.149 | P42: =+N42*VLOOKUP(J42,$B$11:$G$18,6,FALSE)+O42 -> 75.87571 | Q42: =+G42-P42 -> 0.00429
A43: 31 | B43: Bangun Coal | C43: 6072 | D43: 10 | E43: 2.2 | F43: 14.9 | G43: 71.23 | J43: Pinang 6150 | K43: =((VLOOKUP(J43,$B$11:$G$18,6,FALSE)+(VLOOKUP(J43,$B$11:$G$18,4,FALSE)-0.8)*4+(VLOOKUP(J43,$B$11:$G$18,5,FALSE)-15)*0.4)*(C43/VLOOKUP(J43,$B$11:$G$18,2,FALSE))*(((100-D43)/(100-VLOOKUP(J43,$B$11:$G$18,3,FALSE))*(100-8))/(100-8)))-((E43-0.8)*4+(F43-15)*0.4) -> 71.252346 | L43: =G43-K43 -> -0.02234635 | N43: 1.0268 | O43: -6.215 | P43: =+N43*VLOOKUP(J43,$B$11:$G$18,6,FALSE)+O43 -> 75.015148 | Q43: =+G43-P43 -> -3.785148
A44: 32 | B44: Pinang 6000 | C44: 6000 | D44: 16 | E44: 0.6 | F44: 5 | G44: 75.64 | J44: Pinang 6150 | K44: =((VLOOKUP(J44,$B$11:$G$18,6,FALSE)+(VLOOKUP(J44,$B$11:$G$18,4,FALSE)-0.8)*4+(VLOOKUP(J44,$B$11:$G$18,5,FALSE)-15)*0.4)*(C44/VLOOKUP(J44,$B$11:$G$18,2,FALSE))*(((100-D44)/(100-VLOOKUP(J44,$B$11:$G$18,3,FALSE))*(100-8))/(100-8)))-((E44-0.8)*4+(F44-15)*0.4) -> 75.641426 | L44: =G44-K44 -> -0.001426146 | N44: 0.9508 | O44: 0.426 | P44: =+N44*VLOOKUP(J44,$B$11:$G$18,6,FALSE)+O44 -> 75.643788 | Q44: =+G44-P44 -> -0.003788
... A46: 34 | B46: Multi Coal Low | C46: 5950 | D46: 16 | E46: 1 | F46: 7 | G46: 72.65 | J46: Pinang 6150 | K46: =((VLOOKUP(J46,$B$11:$G$18,6,FALSE)+(VLOOKUP(J46,$B$11:$G$18,4,FALSE)-0.8)*4+(VLOOKUP(J46,$B$11:$G$18,5,FALSE)-15)*0.4)*(C46/VLOOKUP(J46,$B$11:$G$18,2,FALSE))*(((100-D46)/(100-VLOOKUP(J46,$B$11:$G$18,3,FALSE))*(100-8))/(100-8)))-((E46-0.8)*4+(F46-15)*0.4) -> 72.651081 | L46: =G46-K46 -> -0.0010809281 | N46: 0.9428 | O46: -1.937 | P46: =+N46*VLOOKUP(J46,$B$11:$G$18,6,FALSE)+O46 -> 72.647908 | Q46: =+G46-P46 -> 0.002092
A47: 35 | B47: Multi Coal Middle | C47: 5900 | D47: 16 | E47: 2 | F47: 7 | G47: 68.06 | J47: Pinang 6150 | K47: =((VLOOKUP(J47,$B$11:$G$18,6,FALSE)+(VLOOKUP(J47,$B$11:$G$18,4,FALSE)-0.8)*4+(VLOOKUP(J47,$B$11:$G$18,5,FALSE)-15)*0.4)*(C47/VLOOKUP(J47,$B$11:$G$18,2,FALSE))*(((100-D47)/(100-VLOOKUP(J47,$B$11:$G$18,3,FALSE))*(100-8))/(100-8)))-((E47-0.8)*4+(F47-15)*0.4) -> 68.060736 | L47: =G47-K47 -> -0.00073571024 | P47: =+N47*VLOOKUP(J47,$B$11:$G$18,6,FALSE)+O47 -> 0 | Q47: =+G47-P47 -> 68.06
A48: 36 | B48: Pinang 5900 | C48: 5900 | D48: 19 | E48: 0.9 | F48: 4.5 | G48: 70.97 | J48: Pinang 6150 | K48: =((VLOOKUP(J48,$B$11:$G$18,6,FALSE)+(VLOOKUP(J48,$B$11:$G$18,4,FALSE)-0.8)*4+(VLOOKUP(J48,$B$11:$G$18,5,FALSE)-15)*0.4)*(C48/VLOOKUP(J48,$B$11:$G$18,2,FALSE))*(((100-D48)/(100-VLOOKUP(J48,$B$11:$G$18,3,FALSE))*(100-8))/(100-8)))-((E48-0.8)*4+(F48-15)*0.4) -> 70.972852 | L48: =G48-K48 -> -0.002852292 | P48: =+N48*VLOOKUP(J48,$B$11:$G$18,6,FALSE)+O48 -> 0 | Q48: =+G48-P48 -> 70.97
A49: 37 | B49: Arutmin A5900 | C49: 5900 | D49: 12 | E49: 0.9 | F49: 13 | G49: 73.38 | J49: Pinang 6150 | K49: =((VLOOKUP(J49,$B$11:$G$18,6,FALSE)+(VLOOKUP(J49,$B$11:$G$18,4,FALSE)-0.8)*4+(VLOOKUP(J49,$B$11:$G$18,5,FALSE)-15)*0.4)*(C49/VLOOKUP(J49,$B$11:$G$18,2,FALSE))*(((100-D49)/(100-VLOOKUP(J49,$B$11:$G$18,3,FALSE))*(100-8))/(100-8)))-((E49-0.8)*4+(F49-15)*0.4) -> 73.377914 | L49: =G49-K49 -> 0.0020863988 | N49: 0.9794 | O49: -4.105 | P49: =+N49*VLOOKUP(J49,$B$11:$G$18,6,FALSE)+O49 -> 73.375334 | Q49: =+G49-P49 -> 0.004666
A50: 38 | B50: Multi Coal High | C50: 5765 | D50: 16 | E50: 3.2 | F50: 7 | G50: 61.67 | J50: Indominco IM_East | K50: =((VLOOKUP(J50,$B$11:$G$18,6,FALSE)+(VLOOKUP(J50,$B$11:$G$18,4,FALSE)-0.8)*4+(VLOOKUP(J50,$B$11:$G$18,5,FALSE)-15)*0.4)*(C50/VLOOKUP(J50,$B$11:$G$18,2,FALSE))*(((100-D50)/(100-VLOOKUP(J50,$B$11:$G$18,3,FALSE))*(100-8))/(100-8)))-((E50-0.8)*4+(F50-15)*0.4) -> 61.54572 | L50: =G50-K50 -> 0.12428006 | N50: 1.0298 | O50: -7.183 | P50: =+N50*VLOOKUP(J50,$B$11:$G$18,6,FALSE)+O50 -> 61.669428 | Q50: =+G50-P50 -> 0.000572
A51: 39 | B51: KCM Coal | C51: 5730 | D51: 10.5 | E51: 0.9 | F51: 20.5 | G51: 69.48 | J51: Indominco IM_East | K51: =((VLOOKUP(J51,$B$11:$G$18,6,FALSE)+(VLOOKUP(J51,$B$11:$G$18,4,FALSE)-0.8)*4+(VLOOKUP(J51,$B$11:$G$18,5,FALSE)-15)*0.4)*(C51/VLOOKUP(J51,$B$11:$G$18,2,FALSE))*(((100-D51)/(100-VLOOKUP(J51,$B$11:$G$18,3,FALSE))*(100-8))/(100-8)))-((E51-0.8)*4+(F51-15)*0.4) -> 69.355031 | L51: =G51-K51 -> 0.12496906 | N51: 1.0906 | O51: -3.429 | P51: =+N51*VLOOKUP(J51,$B$11:$G$18,6,FALSE)+O51 -> 69.488516 | Q51: =+G51-P51 -> -0.008516
A52: 40 | B52: TSA coal | C52: 5700 | D52: 18 | E52: 2 | F52: 8 | G52: 63.7 | J52: Indominco IM_East | K52: =((VLOOKUP(J52,$B$11:$G$18,6,FALSE)+(VLOOKUP(J52,$B$11:$G$18,4,FALSE)-0.8)*4+(VLOOKUP(J52,$B$11:$G$18,5,FALSE)-15)*0.4)*(C52/VLOOKUP(J52,$B$11:$G$18,2,FALSE))*(((100-D52)/(100-VLOOKUP(J52,$B$11:$G$18,3,FALSE))*(100-8))/(100-8)))-((E52-0.8)*4+(F52-15)*0.4) -> 63.580121 | L52: =G52-K52 -> 0.11987879 | N52: 0.9939 | O52: -2.755 | P52: =+N52*VLOOKUP(J52,$B$11:$G$18,6,FALSE)+O52 -> 63.697154 | Q52: =+G52-P52 -> 0.002846
A53: 41 | B53: Tanito Coal | C53: 5700 | D53: 17.5 | E53: 1 | F53: 8.5 | G53: 67.9 | J53: Indominco IM_East | K53: =((VLOOKUP(J53,$B$11:$G$18,6,FALSE)+(VLOOKUP(J53,$B$11:$G$18,4,FALSE)-0.8)*4+(VLOOKUP(J53,$B$11:$G$18,5,FALSE)-15)*0.4)*(C53/VLOOKUP(J53,$B$11:$G$18,2,FALSE))*(((100-D53)/(100-VLOOKUP(J53,$B$11:$G$18,3,FALSE))*(100-8))/(100-8)))-((E53-0.8)*4+(F53-15)*0.4) -> 67.78 | L53: =G53-K53 -> 0.12 | N53: 1 | O53: 1.04 | P53: =+N53*VLOOKUP(J53,$B$11:$G$18,6,FALSE)+O53 -> 67.9 | Q53: =+G53-P53 -> 0
A54: 42 | B54: Mahakam Coal | C54: 5700 | D54: 17.5 | E54: 1 | F54: 8.5 | G54: 67.9 | J54: Indominco IM_East | K54: =((VLOOKUP(J54,$B$11:$G$18,6,FALSE)+(VLOOKUP(J54,$B$11:$G$18,4,FALSE)-0.8)*4+(VLOOKUP(J54,$B$11:$G$18,5,FALSE)-15)*0.4)*(C54/VLOOKUP(J54,$B$11:$G$18,2,FALSE))*(((100-D54)/(100-VLOOKUP(J54,$B$11:$G$18,3,FALSE))*(100-8))/(100-8)))-((E54-0.8)*4+(F54-15)*0.4) -> 67.78 | L54: =G54-K54 -> 0.12 | N54: 1 | O54: 1.04 | P54: =+N54*VLOOKUP(J54,$B$11:$G$18,6,FALSE)+O54 -> 67.9 | Q54: =+G54-P54 -> 0
A55: 43 | B55: Ebony High Sulphur | C55: 5700 | D55: 18 | E55: 1.75 | F55: 4.7 | G55: 66.02 | J55: Indominco IM_East | K55: =((VLOOKUP(J55,$B$11:$G$18,6,FALSE)+(VLOOKUP(J55,$B$11:$G$18,4,FALSE)-0.8)*4+(VLOOKUP(J55,$B$11:$G$18,5,FALSE)-15)*0.4)*(C55/VLOOKUP(J55,$B$11:$G$18,2,FALSE))*(((100-D55)/(100-VLOOKUP(J55,$B$11:$G$18,3,FALSE))*(100-8))/(100-8)))-((E55-0.8)*4+(F55-15)*0.4) -> 65.900121 | L55: =G55-K55 -> 0.11987879 | P55: =+N55*VLOOKUP(J55,$B$11:$G$18,6,FALSE)+O55 -> 0 | Q55: =+G55-P55 -> 66.02
A56: 44 | B56: Pinang 5700 | C56: 5700 | D56: 19 | E56: 0.5 | F56: 5 | G56: 70.09 | J56: Indominco IM_East | K56: =((VLOOKUP(J56,$B$11:$G$18,6,FALSE)+(VLOOKUP(J56,$B$11:$G$18,4,FALSE)-0.8)*4+(VLOOKUP(J56,$B$11:$G$18,5,FALSE)-15)*0.4)*(C56/VLOOKUP(J56,$B$11:$G$18,2,FALSE))*(((100-D56)/(100-VLOOKUP(J56,$B$11:$G$18,3,FALSE))*(100-8))/(100-8)))-((E56-0.8)*4+(F56-15)*0.4) -> 69.980364 | L56: =G56-K56 -> 0.10963636 | N56: 0.9818 | O56: 4.454 | P56: =+N56*VLOOKUP(J56,$B$11:$G$18,6,FALSE)+O56 -> 70.097148 | Q56: =+G56-P56 -> -0.007148
A57: 45 | B57: IBP 5500 | C57: 5500 | D57: 20 | E57: 1 | F57: 7 | G57: 64.24 | J57: Indominco IM_East | K57: =((VLOOKUP(J57,$B$11:$G$18,6,FALSE)+(VLOOKUP(J57,$B$11:$G$18,4,FALSE)-0.8)*4+(VLOOKUP(J57,$B$11:$G$18,5,FALSE)-15)*0.4)*(C57/VLOOKUP(J57,$B$11:$G$18,2,FALSE))*(((100-D57)/(100-VLOOKUP(J57,$B$11:$G$18,3,FALSE))*(100-8))/(100-8)))-((E57-0.8)*4+(F57-15)*0.4) -> 64.135673 | L57: =G57-K57 -> 0.10432749 | P57: =+N57*VLOOKUP(J57,$B$11:$G$18,6,FALSE)+O57 -> 0 | Q57: =+G57-P57 -> 64.24
A58: 46 | B58: Arutmin A5700 | C58: 5700 | D58: 11 | E58: 0.8 | F58: 14 | G58: 71.7 | J58: Indominco IM_East | K58: =((VLOOKUP(J58,$B$11:$G$18,6,FALSE)+(VLOOKUP(J58,$B$11:$G$18,4,FALSE)-0.8)*4+(VLOOKUP(J58,$B$11:$G$18,5,FALSE)-15)*0.4)*(C58/VLOOKUP(J58,$B$11:$G$18,2,FALSE))*(((100-D58)/(100-VLOOKUP(J58,$B$11:$G$18,3,FALSE))*(100-8))/(100-8)))-((E58-0.8)*4+(F58-15)*0.4) -> 71.578424 | L58: =G58-K58 -> 0.12157576 | N58: 1.0788 | O58: -0.42 | P58: =+N58*VLOOKUP(J58,$B$11:$G$18,6,FALSE)+O58 -> 71.708568 | Q58: =+G58-P58 -> -0.008568
A59: 47 | B59: BSS Coal | C59: 5520 | D59: 10 | E59: 0.45 | F59: 15.5 | G59: 71.03 | J59: Indominco IM_East | K59: =((VLOOKUP(J59,$B$11:$G$18,6,FALSE)+(VLOOKUP(J59,$B$11:$G$18,4,FALSE)-0.8)*4+(VLOOKUP(J59,$B$11:$G$18,5,FALSE)-15)*0.4)*(C59/VLOOKUP(J59,$B$11:$G$18,2,FALSE))*(((100-D59)/(100-VLOOKUP(J59,$B$11:$G$18,3,FALSE))*(100-8))/(100-8)))-((E59-0.8)*4+(F59-15)*0.4) -> 70.905187 | L59: =G59-K59 -> 0.1248134 | N59: 1.0565 | O59: 0.397 | P59: =+N59*VLOOKUP(J59,$B$11:$G$18,6,FALSE)+O59 -> 71.03459 | Q59: =+G59-P59 -> -0.00459
A60: 48 | B60: Lanna Harita Coal | C60: 5500 | D60: 22 | E60: 1 | F60: 6 | G60: 63.1 | J60: Indominco IM_East | K60: =((VLOOKUP(J60,$B$11:$G$18,6,FALSE)+(VLOOKUP(J60,$B$11:$G$18,4,FALSE)-0.8)*4+(VLOOKUP(J60,$B$11:$G$18,5,FALSE)-15)*0.4)*(C60/VLOOKUP(J60,$B$11:$G$18,2,FALSE))*(((100-D60)/(100-VLOOKUP(J60,$B$11:$G$18,3,FALSE))*(100-8))/(100-8)))-((E60-0.8)*4+(F60-15)*0.4) -> 62.992281 | L60: =G60-K60 -> 0.1077193 | N60: 0.9123 | O60: 2.107 | P60: =+N60*VLOOKUP(J60,$B$11:$G$18,6,FALSE)+O60 -> 63.103378 | Q60: =+G60-P60 -> -0.003378
A61: 49 | B61: Pinang 5500 | C61: 5500 | D61: 21 | E61: 0.4 | F61: 5.5 | G61: 66.47 | J61: Indominco IM_East | K61: =((VLOOKUP(J61,$B$11:$G$18,6,FALSE)+(VLOOKUP(J61,$B$11:$G$18,4,FALSE)-0.8)*4+(VLOOKUP(J61,$B$11:$G$18,5,FALSE)-15)*0.4)*(C61/VLOOKUP(J61,$B$11:$G$18,2,FALSE))*(((100-D61)/(100-VLOOKUP(J61,$B$11:$G$18,3,FALSE))*(100-8))/(100-8)))-((E61-0.8)*4+(F61-15)*0.4) -> 66.363977 | L61: =G61-K61 -> 0.10602339 | N61: 0.924 | O61: 4.698 | P61: =+N61*VLOOKUP(J61,$B$11:$G$18,6,FALSE)+O61 -> 66.47664 | Q61: =+G61-P61 -> -0.00664
A62: 50 | B62: Mahoni Medium Sulphur | C62: 5500 | D62: 20 | E62: 1.3 | F62: 4.7 | G62: 63.96 | J62: Indominco IM_East | K62: =((VLOOKUP(J62,$B$11:$G$18,6,FALSE)+(VLOOKUP(J62,$B$11:$G$18,4,FALSE)-0.8)*4+(VLOOKUP(J62,$B$11:$G$18,5,FALSE)-15)*0.4)*(C62/VLOOKUP(J62,$B$11:$G$18,2,FALSE))*(((100-D62)/(100-VLOOKUP(J62,$B$11:$G$18,3,FALSE))*(100-8))/(100-8)))-((E62-0.8)*4+(F62-15)*0.4) -> 63.855673 | L62: =G62-K62 -> 0.10432749 | P62: =+N62*VLOOKUP(J62,$B$11:$G$18,6,FALSE)+O62 -> 0 | Q62: =+G62-P62 -> 63.96
A63: 51 | B63: Mahoni | C63: 5500 | D63: 20 | E63: 0.8 | F63: 4.7 | G63: 65.96 | J63: Indominco IM_East | K63: =((VLOOKUP(J63,$B$11:$G$18,6,FALSE)+(VLOOKUP(J63,$B$11:$G$18,4,FALSE)-0.8)*4+(VLOOKUP(J63,$B$11:$G$18,5,FALSE)-15)*0.4)*(C63/VLOOKUP(J63,$B$11:$G$18,2,FALSE))*(((100-D63)/(100-VLOOKUP(J63,$B$11:$G$18,3,FALSE))*(100-8))/(100-8)))-((E63-0.8)*4+(F63-15)*0.4) -> 65.855673 | L63: =G63-K63 -> 0.10432749 | P63: =+N63*VLOOKUP(J63,$B$11:$G$18,6,FALSE)+O63 -> 0 | Q63: =+G63-P63 -> 65.96
A64: 52 | B64: Mahakam Coal B | C64: 5400 | D64: 23 | E64: 1.5 | F64: 8 | G64: 58.44 | J64: Melawan Coal | K64: =((VLOOKUP(J64,$B$11:$G$18,6,FALSE)+(VLOOKUP(J64,$B$11:$G$18,4,FALSE)-0.8)*4+(VLOOKUP(J64,$B$11:$G$18,5,FALSE)-15)*0.4)*(C64/VLOOKUP(J64,$B$11:$G$18,2,FALSE))*(((100-D64)/(100-VLOOKUP(J64,$B$11:$G$18,3,FALSE))*(100-8))/(100-8)))-((E64-0.8)*4+(F64-15)*0.4) -> 58.440516 | L64: =G64-K64 -> -0.00051612903 | P64: =+N64*VLOOKUP(J64,$B$11:$G$18,6,FALSE)+O64 -> 0 | Q64: =+G64-P64 -> 58.44
A65: 53 | B65: Mahoni B | C65: 5300 | D65: 22.5 | E65: 0.8 | F65: 4.6 | G65: 61.89 | J65: Melawan Coal | K65: =((VLOOKUP(J65,$B$11:$G$18,6,FALSE)+(VLOOKUP(J65,$B$11:$G$18,4,FALSE)-0.8)*4+(VLOOKUP(J65,$B$11:$G$18,5,FALSE)-15)*0.4)*(C65/VLOOKUP(J65,$B$11:$G$18,2,FALSE))*(((100-D65)/(100-VLOOKUP(J65,$B$11:$G$18,3,FALSE))*(100-8))/(100-8)))-((E65-0.8)*4+(F65-15)*0.4) -> 61.890741 | L65: =G65-K65 -> -0.00074074074 | P65: =+N65*VLOOKUP(J65,$B$11:$G$18,6,FALSE)+O65 -> 0 | Q65: =+G65-P65 -> 61.89
A66: 54 | B66: Kideco Coal | C66: 5125 | D66: 24.5 | E66: 0.1 | F66: 2 | G66: 62.39 | J66: Melawan Coal | K66: =((VLOOKUP(J66,$B$11:$G$18,6,FALSE)+(VLOOKUP(J66,$B$11:$G$18,4,FALSE)-0.8)*4+(VLOOKUP(J66,$B$11:$G$18,5,FALSE)-15)*0.4)*(C66/VLOOKUP(J66,$B$11:$G$18,2,FALSE))*(((100-D66)/(100-VLOOKUP(J66,$B$11:$G$18,3,FALSE))*(100-8))/(100-8)))-((E66-0.8)*4+(F66-15)*0.4) -> 62.383904 | L66: =G66-K66 -> 0.0060961768 | N66: 0.9246 | O66: 2.822 | P66: =+N66*VLOOKUP(J66,$B$11:$G$18,6,FALSE)+O66 -> 62.384732 | Q66: =+G66-P66 -> 0.005268
A67: 55 | B67: Agathis | C67: 5100 | D67: 25 | E67: 0.82 | F67: 4.5 | G67: 57.88 | J67: Envirocoal | K67: =((VLOOKUP(J67,$B$11:$G$18,6,FALSE)+(VLOOKUP(J67,$B$11:$G$18,4,FALSE)-0.8)*4+(VLOOKUP(J67,$B$11:$G$18,5,FALSE)-15)*0.4)*(C67/VLOOKUP(J67,$B$11:$G$18,2,FALSE))*(((100-D67)/(100-VLOOKUP(J67,$B$11:$G$18,3,FALSE))*(100-8))/(100-8)))-((E67-0.8)*4+(F67-15)*0.4) -> 57.887095 | L67: =G67-K67 -> -0.0070945946 | N67: 1.0338 | O67: -4.681 | P67: =+N67*VLOOKUP(J67,$B$11:$G$18,6,FALSE)+O67 -> 57.688154 | Q67: =+G67-P67 -> 0.191846
A68: 56 | B68: Lanna Harita Coal | C68: 5000 | D68: 27 | E68: 1.2 | F68: 6 | G68: 53.3 | J68: Envirocoal | K68: =((VLOOKUP(J68,$B$11:$G$18,6,FALSE)+(VLOOKUP(J68,$B$11:$G$18,4,FALSE)-0.8)*4+(VLOOKUP(J68,$B$11:$G$18,5,FALSE)-15)*0.4)*(C68/VLOOKUP(J68,$B$11:$G$18,2,FALSE))*(((100-D68)/(100-VLOOKUP(J68,$B$11:$G$18,3,FALSE))*(100-8))/(100-8)))-((E68-0.8)*4+(F68-15)*0.4) -> 53.307162 | L68: =G68-K68 -> -0.0071621622 | N68: 0.9865 | O68: -6.208 | P68: =+N68*VLOOKUP(J68,$B$11:$G$18,6,FALSE)+O68 -> 53.307545 | Q68: =+G68-P68 -> -0.007545
A69: 57 | B69: IBP 5000 | C69: 5000 | D69: 25 | E69: 1 | F69: 7 | G69: 55.11 | J69: Envirocoal | K69: =((VLOOKUP(J69,$B$11:$G$18,6,FALSE)+(VLOOKUP(J69,$B$11:$G$18,4,FALSE)-0.8)*4+(VLOOKUP(J69,$B$11:$G$18,5,FALSE)-15)*0.4)*(C69/VLOOKUP(J69,$B$11:$G$18,2,FALSE))*(((100-D69)/(100-VLOOKUP(J69,$B$11:$G$18,3,FALSE))*(100-8))/(100-8)))-((E69-0.8)*4+(F69-15)*0.4) -> 55.112838 | L69: =G69-K69 -> -0.0028378378 | P69: =+N69*VLOOKUP(J69,$B$11:$G$18,6,FALSE)+O69 -> 0 | Q69: =+G69-P69 -> 55.11
A70: 58 | B70: Sungkai Medium Sulphur | C70: 5000 | D70: 26 | E70: 1.3 | F70: 4.5 | G70: 54.21 | J70: Envirocoal | K70: =((VLOOKUP(J70,$B$11:$G$18,6,FALSE)+(VLOOKUP(J70,$B$11:$G$18,4,FALSE)-0.8)*4+(VLOOKUP(J70,$B$11:$G$18,5,FALSE)-15)*0.4)*(C70/VLOOKUP(J70,$B$11:$G$18,2,FALSE))*(((100-D70)/(100-VLOOKUP(J70,$B$11:$G$18,3,FALSE))*(100-8))/(100-8)))-((E70-0.8)*4+(F70-15)*0.4) -> 54.21 | L70: =G70-K70 -> 0 | P70: =+N70*VLOOKUP(J70,$B$11:$G$18,6,FALSE)+O70 -> 0 | Q70: =+G70-P70 -> 54.21
A71: 59 | B71: Sungkai | C71: 5000 | D71: 26 | E71: 0.9 | F71: 4.5 | G71: 55.81 | J71: Envirocoal | K71: =((VLOOKUP(J71,$B$11:$G$18,6,FALSE)+(VLOOKUP(J71,$B$11:$G$18,4,FALSE)-0.8)*4+(VLOOKUP(J71,$B$11:$G$18,5,FALSE)-15)*0.4)*(C71/VLOOKUP(J71,$B$11:$G$18,2,FALSE))*(((100-D71)/(100-VLOOKUP(J71,$B$11:$G$18,3,FALSE))*(100-8))/(100-8)))-((E71-0.8)*4+(F71-15)*0.4) -> 55.81 | L71: =G71-K71 -> 0 | N71: 1 | O71: -4.72 | P71: =+N71*VLOOKUP(J71,$B$11:$G$18,6,FALSE)+O71 -> 55.61 | Q71: =+G71-P71 -> 0.2
A72: 60 | B72: Sungkai High Sulphur | C72: 5000 | D72: 26 | E72: 1.7 | F72: 4.5 | G72: 52.61 | J72: Envirocoal | K72: =((VLOOKUP(J72,$B$11:$G$18,6,FALSE)+(VLOOKUP(J72,$B$11:$G$18,4,FALSE)-0.8)*4+(VLOOKUP(J72,$B$11:$G$18,5,FALSE)-15)*0.4)*(C72/VLOOKUP(J72,$B$11:$G$18,2,FALSE))*(((100-D72)/(100-VLOOKUP(J72,$B$11:$G$18,3,FALSE))*(100-8))/(100-8)))-((E72-0.8)*4+(F72-15)*0.4) -> 52.61 | L72: =G72-K72 -> 0 | N72: 1 | O72: -6.72 | P72: =+N72*VLOOKUP(J72,$B$11:$G$18,6,FALSE)+O72 -> 53.61 | Q72: =+G72-P72 -> -1
A73: 61 | B73: Arutmin A5000 | C73: 5000 | D73: 22.4 | E73: 0.54 | F73: 8.9 | G73: 58.02 | J73: Envirocoal | K73: =((VLOOKUP(J73,$B$11:$G$18,6,FALSE)+(VLOOKUP(J73,$B$11:$G$18,4,FALSE)-0.8)*4+(VLOOKUP(J73,$B$11:$G$18,5,FALSE)-15)*0.4)*(C73/VLOOKUP(J73,$B$11:$G$18,2,FALSE))*(((100-D73)/(100-VLOOKUP(J73,$B$11:$G$18,3,FALSE))*(100-8))/(100-8)))-((E73-0.8)*4+(F73-15)*0.4) -> 58.020216 | L73: =G73-K73 -> -0.00021621622 | N73: 1.0486 | O73: -5.245 | P73: =+N73*VLOOKUP(J73,$B$11:$G$18,6,FALSE)+O73 -> 58.017038 | Q73: =+G73-P73 -> 0.002962
A74: 62 | B74: Warukin Formation Coal | C74: 4760 | D74: 25 | E74: 0.55 | F74: 4.5 | G74: 55.38 | J74: Envirocoal | K74: =((VLOOKUP(J74,$B$11:$G$18,6,FALSE)+(VLOOKUP(J74,$B$11:$G$18,4,FALSE)-0.8)*4+(VLOOKUP(J74,$B$11:$G$18,5,FALSE)-15)*0.4)*(C74/VLOOKUP(J74,$B$11:$G$18,2,FALSE))*(((100-D74)/(100-VLOOKUP(J74,$B$11:$G$18,3,FALSE))*(100-8))/(100-8)))-((E74-0.8)*4+(F74-15)*0.4) -> 55.382622 | L74: =G74-K74 -> -0.0026216216 | N74: 0.9649 | O74: -2.828 | P74: =+N74*VLOOKUP(J74,$B$11:$G$18,6,FALSE)+O74 -> 55.384417 | Q74: =+G74-P74 -> -0.004417
A75: 63 | B75: IBP 4600 | C75: 4600 | D75: 28 | E75: 0.5 | F75: 7 | G75: 50.95 | J75: Envirocoal | K75: =((VLOOKUP(J75,$B$11:$G$18,6,FALSE)+(VLOOKUP(J75,$B$11:$G$18,4,FALSE)-0.8)*4+(VLOOKUP(J75,$B$11:$G$18,5,FALSE)-15)*0.4)*(C75/VLOOKUP(J75,$B$11:$G$18,2,FALSE))*(((100-D75)/(100-VLOOKUP(J75,$B$11:$G$18,3,FALSE))*(100-8))/(100-8)))-((E75-0.8)*4+(F75-15)*0.4) -> 50.955978 | L75: =G75-K75 -> -0.0059783784 | N75: 0.9559 | O75: -1.035 | P75: =+N75*VLOOKUP(J75,$B$11:$G$18,6,FALSE)+O75 -> 56.634447 | Q75: =+G75-P75 -> -5.684447
A76: 64 | B76: Bas Gumay Coal | C76: 4400 | D76: 35 | E76: 0.5 | F76: 5 | G76: 45.41 | J76: Jorong J-1 | K76: =((VLOOKUP(J76,$B$11:$G$18,6,FALSE)+(VLOOKUP(J76,$B$11:$G$18,4,FALSE)-0.8)*4+(VLOOKUP(J76,$B$11:$G$18,5,FALSE)-15)*0.4)*(C76/VLOOKUP(J76,$B$11:$G$18,2,FALSE))*(((100-D76)/(100-VLOOKUP(J76,$B$11:$G$18,3,FALSE))*(100-8))/(100-8)))-((E76-0.8)*4+(F76-15)*0.4) -> 45.605147 | L76: =G76-K76 -> -0.19514706 | P76: =+N76*VLOOKUP(J76,$B$11:$G$18,6,FALSE)+O76 -> 0 | Q76: =+G76-P76 -> 45.41
A77: 65 | B77: IBP 4400 | C77: 4400 | D77: 30 | E77: 0.5 | F77: 7 | G77: 47.69 | J77: Jorong J-1 | K77: =((VLOOKUP(J77,$B$11:$G$18,6,FALSE)+(VLOOKUP(J77,$B$11:$G$18,4,FALSE)-0.8)*4+(VLOOKUP(J77,$B$11:$G$18,5,FALSE)-15)*0.4)*(C77/VLOOKUP(J77,$B$11:$G$18,2,FALSE))*(((100-D77)/(100-VLOOKUP(J77,$B$11:$G$18,3,FALSE))*(100-8))/(100-8)))-((E77-0.8)*4+(F77-15)*0.4) -> 47.913235 | L77: =G77-K77 -> -0.22323529 | P77: =+N77*VLOOKUP(J77,$B$11:$G$18,6,FALSE)+O77 -> 0 | Q77: =+G77-P77 -> 47.69
A78: 66 | B78: IBP 4200 | C78: 4200 | D78: 32 | E78: 0.5 | F78: 6 | G78: 44.05 | I78: =(((((100-8)/(100-D78))*D78))+(100-8))/100 -> 1.3529412 | J78: Ecocoal | K78: =((VLOOKUP(J78,$B$11:$G$18,6,FALSE)+(VLOOKUP(J78,$B$11:$G$18,4,FALSE)-0.8)*4+(VLOOKUP(J78,$B$11:$G$18,5,FALSE)-15)*0.4)*(C78/VLOOKUP(J78,$B$11:$G$18,2,FALSE))*(((100-D78)/(100-VLOOKUP(J78,$B$11:$G$18,3,FALSE))*(100-8/I78))/(100-8/$I$18)))-((E78-0.8)*4+(F78-15)*0.4) -> 43.838836 | L78: =G78-K78 -> 0.21116384 | P78: =+N78*VLOOKUP(J78,$B$11:$G$18,6,FALSE)+O78 -> 0 | Q78: =+G78-P78 -> 44.05
A79: 67 | B79: PIC Coal | C79: 4200 | D79: 33 | E79: 1.75 | F79: 6 | G79: 38.44 | I79: =(((((100-8)/(100-D79))*D79))+(100-8))/100 -> 1.3731343 | J79: Ecocoal | K79: =((VLOOKUP(J79,$B$11:$G$18,6,FALSE)+(VLOOKUP(J79,$B$11:$G$18,4,FALSE)-0.8)*4+(VLOOKUP(J79,$B$11:$G$18,5,FALSE)-15)*0.4)*(C79/VLOOKUP(J79,$B$11:$G$18,2,FALSE))*(((100-D79)/(100-VLOOKUP(J79,$B$11:$G$18,3,FALSE))*(100-8/I79))/(100-8/$I$18)))-((E79-0.8)*4+(F79-15)*0.4) -> 38.300285 | L79: =G79-K79 -> 0.13971471 | N79: 1.0327 | O79: -7.346 | P79: =+N79*VLOOKUP(J79,$B$11:$G$18,6,FALSE)+O79 -> 38.443918 | Q79: =+G79-P79 -> -0.003918
A80: 68 | B80: Borneo BIB | C80: 3800 | D80: 41 | E80: 0.4 | F80: 5 | G80: 30.56 | I80: =(((((100-8)/(100-D80))*D80))+(100-8))/100 -> 1.559322 | J80: Ecocoal | K80: =((VLOOKUP(J80,$B$11:$G$18,6,FALSE)+(VLOOKUP(J80,$B$11:$G$18,4,FALSE)-0.8)*4+(VLOOKUP(J80,$B$11:$G$18,5,FALSE)-15)*0.4)*(C80/VLOOKUP(J80,$B$11:$G$18,2,FALSE))*(((100-D80)/(100-VLOOKUP(J80,$B$11:$G$18,3,FALSE))*(100-8/I80))/(100-8/$I$18))) -> 30.900945 | L80: =G80-K80 -> -0.3409447 | N80: 0.846 | O80: 0.146 | P80: =+N80*VLOOKUP(J80,$B$11:$G$18,6,FALSE)+O80 -> 37.65764 | Q80: =+G80-P80 -> -7.09764
A81: 69 | B81: PKN 3500 | C81: 3520 | D81: 43.4 | E81: 0.15 | F81: 3.4 | G81: 27.1 | I81: =(((((100-8)/(100-D81))*D81))+(100-8))/100 -> 1.6254417 | J81: Ecocoal | K81: =((VLOOKUP(J81,$B$11:$G$18,6,FALSE)+(VLOOKUP(J81,$B$11:$G$18,4,FALSE)-0.8)*4+(VLOOKUP(J81,$B$11:$G$18,5,FALSE)-15)*0.4)*(C81/VLOOKUP(J81,$B$11:$G$18,2,FALSE))*(((100-D81)/(100-VLOOKUP(J81,$B$11:$G$18,3,FALSE))*(100-8/I81))/(100-8/$I$18))) -> 27.520072 | L81: =G81-K81 -> -0.42007177 | N81: 0.7242 | O81: -5.011 | P81: =+N81*VLOOKUP(J81,$B$11:$G$18,6,FALSE)+O81 -> 27.100028 | Q81: =+G81-P81 -> -2.8e-05
A82: 70 | B82: LIM 3000 | C82: 2995 | D82: 50.1 | E82: 0.6 | F82: 5.3 | G82: 20.2 | I82: =(((((100-8)/(100-D82))*D82))+(100-8))/100 -> 1.8436874 | J82: Ecocoal | K82: =((VLOOKUP(J82,$B$11:$G$18,6,FALSE)+(VLOOKUP(J82,$B$11:$G$18,4,FALSE)-0.8)*4+(VLOOKUP(J82,$B$11:$G$18,5,FALSE)-15)*0.4)*(C82/VLOOKUP(J82,$B$11:$G$18,2,FALSE))*(((100-D82)/(100-VLOOKUP(J82,$B$11:$G$18,3,FALSE))*(100-8/I82))/(100-8/$I$18))) -> 20.770212 | L82: =G82-K82 -> -0.57021227 | N82: 0.5399 | O82: -3.763 | P82: =+N82*VLOOKUP(J82,$B$11:$G$18,6,FALSE)+O82 -> 20.176166 | Q82: =+G82-P82 -> 0.023834
A85: No | B85: Merek Dagang | C85: KUALITAS TYPICAL | G85: Tanggal | I85: FKA | J85: Marker | K85: HPB | L85: HPB | N85: Koefisien a | O85: Koefisien b | P85: Rumus b Koefisien | Q85: Selisih Rumus b
C86: CV (kcal/kg GAR) | D86: TM (%, AR) | E86: TS (%, AR) | F86: Ash (%, AR) | K86: Marker (USD/ton)
C88: 5700 | D88: 11 | E88: 0.8 | F88: 14 | G88: 41274 | I88: =(((((100-8)/(100-D88))*D88))+(100-8))/100 -> 1.0337079 | J88: =IF(C88>6850,$B$11,IF(C88>6400,$B$12,IF(C88>=5900,$B$13,IF(C88>=5500,$B$14,IF(C88>=5125,$B$15,IF(C88>=4600,$B$16,IF(C88>=4300,$B$17,$B$18))))))) -> Indominco IM_East | K88: =OFFSET('HBA 2009-2015'!$C$45,MATCH(MONTH(G88)&"-"&YEAR(G88),'HBA 2009-2015'!$B$46:$B$113,0),MATCH(J88,'HBA 2009-2015'!$D$2:$K$2,0)) -> 66.86 | L88: =IF(J88= $B$18,IF(D88<40,((K88+(VLOOKUP(J88,$B$11:$G$18,4,FALSE)-0.8)*4+(VLOOKUP(J88,$B$11:$G$18,5,FALSE)-15)*0.4)*(C88/VLOOKUP(J88,$B$11:$G$18,2,FALSE))*(((100-D88)/(100-VLOOKUP(J88,$B$11:$G$18,3,FALSE))*(100-8/I88))/(100-8/$I$18)))-((E88-0.8)*4+(F88-15)*0.4),((VLOOKUP(J88,$B$11:$G$18,6,FALSE)+(VLOOKUP(J88,$B$11:$G$18,4,FALSE)-0.8)*4+(VLOOKUP(J88,$B$11:$G$18,5,FALSE)-15)*0.4)*(C88/VLOOKUP(J88,$B$11:$G$18,2,FALSE))*(((100-D88)/(100-VLOOKUP(J88,$B$11:$G$18,3,FALSE))*(100-8/I88))/(100-8/$I$18)))),((K88+(VLOOKUP(J88,$B$11:$G$18,4,FALSE)-0.8)*4+(VLOOKUP(J88,$B$11:$G$18,5,FALSE)-15)*0.4)*(C88/VLOOKUP(J88,$B$11:$G$18,2,FALSE))*(((100-D88)/(100-VLOOKUP(J88,$B$11:$G$18,3,FALSE))*(100-8))/(100-8)))-((E88-0.8)*4+(F88-15)*0.4)) -> 71.578424
C89: 3416.0246 | D89: 42.07 | E89: 11.25 | F89: 0.19 | G89: 40967 | I89: =(((((100-8)/(100-D89))*D89))+(100-8))/100 -> 1.5881236 | J89: =IF(C89>6850,$B$11,IF(C89>6400,$B$12,IF(C89>=5900,$B$13,IF(C89>=5500,$B$14,IF(C89>=5125,$B$15,IF(C89>=4600,$B$16,IF(C89>=4300,$B$17,$B$18))))))) -> Ecocoal | K89: =OFFSET('HBA 2009-2015'!$C$45,MATCH(MONTH(G89)&"-"&YEAR(G89),'HBA 2009-2015'!$B$46:$B$113,0),MATCH(J89,'HBA 2009-2015'!$D$2:$K$2,0)) -> 57.99 | L89: =IF(J89= $B$18,IF(D89<40,((K89+(VLOOKUP(J89,$B$11:$G$18,4,FALSE)-0.8)*4+(VLOOKUP(J89,$B$11:$G$18,5,FALSE)-15)*0.4)*(C89/VLOOKUP(J89,$B$11:$G$18,2,FALSE))*(((100-D89)/(100-VLOOKUP(J89,$B$11:$G$18,3,FALSE))*(100-8/I89))/(100-8/$I$18)))-((E89-0.8)*4+(F89-15)*0.4),((VLOOKUP(J89,$B$11:$G$18,6,FALSE)+(VLOOKUP(J89,$B$11:$G$18,4,FALSE)-0.8)*4+(VLOOKUP(J89,$B$11:$G$18,5,FALSE)-15)*0.4)*(C89/VLOOKUP(J89,$B$11:$G$18,2,FALSE))*(((100-D89)/(100-VLOOKUP(J89,$B$11:$G$18,3,FALSE))*(100-8/I89))/(100-8/$I$18)))),((K89+(VLOOKUP(J89,$B$11:$G$18,4,FALSE)-0.8)*4+(VLOOKUP(J89,$B$11:$G$18,5,FALSE)-15)*0.4)*(C89/VLOOKUP(J89,$B$11:$G$18,2,FALSE))*(((100-D89)/(100-VLOOKUP(J89,$B$11:$G$18,3,FALSE))*(100-8))/(100-8)))-((E89-0.8)*4+(F89-15)*0.4)) -> 27.301493
G90: 41274 | I90: =(((((100-8)/(100-D90))*D90))+(100-8))/100 -> 0.92 | J90: =IF(C90>6850,$B$11,IF(C90>6400,$B$12,IF(C90>=5900,$B$13,IF(C90>=5500,$B$14,IF(C90>=5125,$B$15,IF(C90>=4600,$B$16,IF(C90>=4300,$B$17,$B$18))))))) -> Ecocoal | K90: =OFFSET('HBA 2009-2015'!$C$45,MATCH(MONTH(G90)&"-"&YEAR(G90),'HBA 2009-2015'!$B$46:$B$113,0),MATCH(J90,'HBA 2009-2015'!$D$2:$K$2,0)) -> 44.34 | L90: =IF(J90= $B$18,IF(D90<40,((K90+(VLOOKUP(J90,$B$11:$G$18,4,FALSE)-0.8)*4+(VLOOKUP(J90,$B$11:$G$18,5,FALSE)-15)*0.4)*(C90/VLOOKUP(J90,$B$11:$G$18,2,FALSE))*(((100-D90)/(100-VLOOKUP(J90,$B$11:$G$18,3,FALSE))*(100-8/I90))/(100-8/$I$18)))-((E90-0.8)*4+(F90-15)*0.4),((VLOOKUP(J90,$B$11:$G$18,6,FALSE)+(VLOOKUP(J90,$B$11:$G$18,4,FALSE)-0.8)*4+(VLOOKUP(J90,$B$11:$G$18,5,FALSE)-15)*0.4)*(C90/VLOOKUP(J90,$B$11:$G$18,2,FALSE))*(((100-D90)/(100-VLOOKUP(J90,$B$11:$G$18,3,FALSE))*(100-8/I90))/(100-8/$I$18)))),((K90+(VLOOKUP(J90,$B$11:$G$18,4,FALSE)-0.8)*4+(VLOOKUP(J90,$B$11:$G$18,5,FALSE)-15)*0.4)*(C90/VLOOKUP(J90,$B$11:$G$18,2,FALSE))*(((100-D90)/(100-VLOOKUP(J90,$B$11:$G$18,3,FALSE))*(100-8))/(100-8)))-((E90-0.8)*4+(F90-15)*0.4)) -> 9.2
