Workbook

Sheet SUMMARY LOADING PONTON 2012
B2: SUMMARY LOADING PONTON PT. ZEN JAYA INDONESIA 2012
B4: NO | C4: CONSIGNEE | D4: NAME OF MOTHER VESSEL | F4: NO SKAB-SPB | G4: TUG / BARGE | I4: CARGO (MT) | L4: Selisih
I5: DRAUGHT SURVEYOR | J5: Kalori | K5: Volume | L5: Volume
B6: 1 | C6: PT. SENTOSA LAJU ENERGY | D6: 1 | E6: MV. JS LIBERTY | F6: 118 SBB-SKAB/I/2012 | G6: 118 | H6: BG.RMN 2504/TB.KSA 22 | I6: 5519.975 | J6: BG.RMN 2504 OK | K6: 5519.975 | L6: =I6-K6 -> 0 | O6: 5519.975 | P6: 1 | R6: =+I6-O6 -> 0
C7: PT. SENTOSA LAJU ENERGY | E7: MV. JS LIBERTY | F7: 119 SBB-SKAB/I/2012 | G7: 119 | H7: BG.RIMAU 2506/TB.LELUASA | I7: 5518.59 | J7: BG.Rimau 2506 ok | K7: 5518.59 | L7: =I7-K7 -> 0 | O7: 5518.59 | P7: 2 | R7: =+I7-O7 -> 0
C8: PT. SENTOSA LAJU ENERGY | E8: MV. JS LIBERTY | F8: 120 SBB-SKAB/I/2012 | G8: 120 | H8: BG.RMN 2503/TB.KSA 35 | I8: 5419.23 | K8: 5419.23 | L8: =I8-K8 -> 0 | O8: 5419.23 | P8: 3 | R8: =+I8-O8 -> 0
C9: PT. SENTOSA LAJU ENERGY | E9: MV. JS LIBERTY | F9: 121 SBB-SKAB/I/2012 | G9: 121 | H9: BG.SEA MASTER/TB.HIKMAH 02 | I9: 5536.487 | K9: 5536.487 | L9: =I9-K9 -> 0 | O9: 5536.487 | P9: 4 | R9: =+I9-O9 -> 0
C10: PT. SENTOSA LAJU ENERGY | E10: MV. JS LIBERTY | F10: 122 SBB-SKAB/I/2012 | G10: 122 | H10: BG.NOBEL SEA/TB.ROBBY 88 | I10: 4053.306 | K10: 4053.306 | L10: =I10-K10 -> 0 | O10: 4053.306 | P10: 5 | R10: =+I10-O10 -> 0
C11: PT. SENTOSA LAJU ENERGY | E11: MV. JS LIBERTY | F11: 123 SBB-SKAB/I/2012 | G11: 123 | H11: BG.RMN 2501/TB.KSA 43 | I11: 5619.044 | K11: 5619.044 | L11: =I11-K11 -> 0 | O11: 5619.044 | P11: 6 | R11: =+I11-O11 -> 0
C12: PT. SENTOSA LAJU ENERGY | E12: MV. JS LIBERTY | F12: 124 SBB-SKAB/I/2012 | G12: 124 | H12: BG.RMN 2507/TB.KSA 34 | I12: 5536.195 | K12: 5536.195 | L12: =I12-K12 -> 0 | O12: 5536.195 | P12: 7 | R12: =+I12-O12 -> 0
C13: PT. SENTOSA LAJU ENERGY | E13: MV. JS LIBERTY | F13: 125 SBB-SKAB/I/2012 | G13: 125 | H13: BG.RMN 2504/TB.KSA 22 | I13: 5591.064 | J13: BG.RMN 2504 OK | K13: 5591.064 | L13: =I13-K13 -> 0 | O13: 5591.064 | P13: 8 | R13: =+I13-O13 -> 0
C14: PT. SENTOSA LAJU ENERGY | E14: MV. JS LIBERTY | F14: 126 SBB-SKAB/I/2012 | G14: 126 | H14: BG.RIMAU 2506/TB.LELUASA | I14: 4566.212 | J14: BG.Rimau 2506 ok | K14: 4566.212 | L14: =I14-K14 -> 0 | O14: 4566.212 | P14: 9 | R14: =+I14-O14 -> 0
C15: PT. SENTOSA LAJU ENERGY | E15: MV. JS LIBERTY | F15: 127 SBB-SKAB/I/2012 | G15: 127 | H15: BG.RMN 2503/TB.KSA 35 | I15: 3638.029 | K15: 3638.029 | L15: =I15-K15 -> 0 | O15: 3638.029 | P15: 10 | R15: =+I15-O15 -> 0
C16: PT. SENTOSA LAJU ENERGY | E16: MV. JS LIBERTY | F16: 128 SBB-SKAB/I/2012 | G16: 128 | H16: BG.NOBEL SEA/TB.ROBBY 88 | I16: 4042.319 | K16: 4042.319 | L16: =I16-K16 -> 0 | O16: 4042.319 | P16: 11 | R16: =+I16-O16 -> 0
K17: 5503.245 | L17: =I30-K17 -> 0 | O17: 5254.951 | P17: 12 | R17: =+I17-O17 -> -5254.951
K18: 5521.557 | L18: =I31-K18 -> 0 | O18: 5140.813 | P18: 13 | R18: =+I18-O18 -> -5140.813
K19: 5539.204 | L19: =I43-K19 -> 0 | O19: 5520.929 | P19: 14 | R19: =+I19-O19 -> -5520.929
K20: 5735.291 | L20: =I44-K20 -> 0 | O20: 5373.89 | P20: 15 | R20: =+I20-O20 -> -5373.89
J21: BG.Rimau 2506 ok | K21: 5532.086 | L21: =I45-K21 -> 0 | O21: 5155.215 | P21: 16 | R21: =+I21-O21 -> -5155.215
K22: 5539.295 | L22: =I46-K22 -> -0.036 | O22: 5517.551 | P22: 17 | R22: =+I22-O22 -> -5517.551
K23: 5232.92 | L23: =I47-K23 -> 0 | O23: 5232.92 | P23: 18 | R23: =+I23-O23 -> -5232.92
K24: 5517.551 | L24: =I48-K24 -> 0 | O24: 5539.259 | P24: 19 | R24: =+I24-O24 -> -5539.259
K25: 3869.527 | L25: =I49-K25 -> 0 | O25: 5532.086 | P25: 20 | R25: =+I25-O25 -> -5532.086
K26: 5496.765 | L26: =I51-K26 -> 0 | O26: 5539.204 | P26: 21 | R26: =+I26-O26 -> -5539.204
K27: 3879.728 | L27: =I52-K27 -> 0 | O27: 5735.291 | P27: 22 | R27: =+I27-O27 -> -5735.291
K28: 3754.075 | L28: =I54-K28 -> 0 | O28: 7129.645 | P28: 23 | R28: =+I28-O28 -> -7129.645
K29: 5259.686 | L29: =I55-K29 -> 0 | O29: 6532.344 | P29: 24 | R29: =+I29-O29 -> -6532.344
B30: 2 | C30: PT. SENTOSA LAJU ENERGY | D30: 2 | E30: MV.TIANJIN VENTURE | F30: 001 SBB-SKAB/II/2012 | G30: 1 | H30: BG.SEA MASTER I/TB.HIKMAH 02 | I30: 5503.245 | K30: 5365.246 | L30: =I56-K30 -> 0 | O30: 5521.557 | P30: 25 | R30: =+I30-O30 -> -18.312
C31: PT. SENTOSA LAJU ENERGY | E31: MV.TIANJIN VENTURE | F31: 002 SBB-SKAB/II/2012 | G31: 2 | H31: BG.RMN 2501/TB.KSA 43 | I31: 5521.557 | K31: 5379.353 | L31: =I57-K31 -> 0 | O31: 5503.245 | P31: 26 | R31: =+I31-O31 -> 18.312
K32: 5518.833 | L32: =I58-K32 -> 0 | O32: 5219.542 | P32: 27 | R32: =+I32-O32 -> -5219.542
K33: 3892.052 | L33: =I59-K33 -> 0 | O33: 5164.164 | P33: 28 | R33: =+I33-O33 -> -5164.164
K34: 5533.791 | L34: =I60-K34 -> 0 | O34: 5496.765 | P34: 29 | R34: =+I34-O34 -> -5496.765
K35: 4036.624 | L35: =I61-K35 -> 0 | O35: 3879.728 | P35: 30 | R35: =+I35-O35 -> -3879.728
K36: 5186.781 | L36: =I62-K36 -> -6 | O36: 3754.075 | P36: 31 | R36: =+I36-O36 -> -3754.075
J37: BG.Rimau 2506 ok | K37: 5563.576 | L37: =I63-K37 -> 0 | O37: 5259.686 | P37: 32 | R37: =+I37-O37 -> -5259.686
K38: 5489.795 | L38: =I64-K38 -> -5 | O38: 5365.246 | P38: 33 | R38: =+I38-O38 -> -5365.246
K39: 5454.227 | L39: =I65-K39 -> 0 | O39: 5379.353 | P39: 34 | R39: =+I39-O39 -> -5379.353
K40: 3108.028 | L40: =I66-K40 -> 0 | O40: 5518.833 | P40: 35 | R40: =+I40-O40 -> -5518.833
K41: 3144.852 | L41: =I67-K41 -> 0 | O41: 5503.245 | P41: 36 | R41: =+I41-O41 -> -5503.245
K42: 5170.624 | L42: =I68-K42 -> 0 | O42: 5521.557 | P42: 37 | R42: =+I42-O42 -> -5521.557
...

Sheet Rumus Royalty
B1: PERHITUNGAN HPB DAN ROYALTY
B4: INPUT DATA | G4: PERHITUNGAN HPB
B6: No SKAB | G6: FKA | H6: =(((((100-8)/(100-C12))*C12))+(100-8))/100 -> 1.5566836
B7: Tanggal | C7: 42005 | G7: Marker | H7: =IF(C10>6850,'HPB Dec 2012'!$B$11,IF(C10>6400,'HPB Dec 2012'!$B$12,IF(C10>=5900,'HPB Dec 2012'!$B$13,IF(C10>=5500,'HPB Dec 2012'!$B$14,IF(C10>=5125,'HPB Dec 2012'!$B$15,IF(C10>=4600,'HPB Dec 2012'!$B$16,IF(C10>=4300,'HPB Dec 2012'!$B$17,'HPB Dec 2012'!$B$18))))))) -> Envirocoal
B8: Quantity | C8: 7488.224 | G8: HPB Marker (USD/ton) | H8: =OFFSET('HBA 2009-2015'!$C$45,MATCH(MONTH(C7)&"-"&YEAR(C7),'HBA 2009-2015'!$B$5:$B$113,0),MATCH(H7,'HBA 2009-2015'!$D$2:$K$2,0)) -> 79.3
B9: CV (kcal/kg ADB | C9: 7500
B10: CV (kcal/kg GAR) | C10: =C9*(100-C12)/(100-C11) -> 5120.7255 | G10: HPB FOB Vessel | H10: =IF(H7= 'HPB Dec 2012'!$B$18,IF(C12<40,((H8+(VLOOKUP(H7,'HPB Dec 2012'!$B$11:$G$18,4,FALSE)-0.8)*4+(VLOOKUP(H7,'HPB Dec 2012'!$B$11:$G$18,5,FALSE)-15)*0.4)*(C10/VLOOKUP(H7,'HPB Dec 2012'!$B$11:$G$18,2,FALSE))*(((100-C12)/(100-VLOOKUP(H7,'HPB Dec 2012'!$B$11:$G$18,3,FALSE))*(100-8/H6))/(100-8/'HPB Dec 2012'!$I$18)))-((C13-0.8)*4+(C14-15)*0.4),((VLOOKUP(H7,'HPB Dec 2012'!$B$11:$G$18,6,FALSE)+(VLOOKUP(H7,'HPB Dec 2012'!$B$11:$G$18,4,FALSE)-0.8)*4+(VLOOKUP(H7,'HPB Dec 2012'!$B$11:$G$18,5,FALSE)-15)*0.4)*(C10/VLOOKUP(H7,'HPB Dec 2012'!$B$11:$G$18,2,FALSE))*(((100-C12)/(100-VLOOKUP(H7,'HPB Dec 2012'!$B$11:$G$18,3,FALSE))*(100-8/H6))/(100-8/'HPB Dec 2012'!$I$18)))),((H8+(VLOOKUP(H7,'HPB Dec 2012'!$B$11:$G$18,4,FALSE)-0.8)*4+(VLOOKUP(H7,'HPB Dec 2012'!$B$11:$G$18,5,FALSE)-15)*0.4)*(C10/VLOOKUP(H7,'HPB Dec 2012'!$B$11:$G$18,2,FALSE))*(((100-C12)/(100-VLOOKUP(H7,'HPB Dec 2012'!$B$11:$G$18,3,FALSE))*(100-8))/(100-8)))-((C13-0.8)*4+(C14-15)*0.4)) -> 61.936821
B11: IM (%, AR) | C11: 13.44
B12: TM (%, AR) | C12: 40.9 | G12: Penyesuaian Biaya FOB Barge :
B13: TS (%, AR) | C13: 0.32 | G13: Biaya Angkutan Tongkang (Barge) | H13: =VLOOKUP($C$15,Tabel!$B$5:$E$9,2,FALSE)*C16 -> 3.5
B14: Ash (%, AR) | C14: 10.1 | G14: Biaya Surveyor | H14: =VLOOKUP($C$15,Tabel!$B$5:$E$9,3,FALSE) -> 0.25
B15: Lokasi | C15: Sumatera | G15: Biaya Transhipment | H15: =VLOOKUP($C$15,Tabel!$B$5:$E$9,4,FALSE) -> 3
B16: Jarak barging | C16: 70 | G16: Jumlah | H16: =SUM(H13:H15) -> 6.75
B17: Terms | C17: CIF
B18: Price per ton | C18: 20.5 | G18: HPB FOB Barge | H18: =+H10-H16 -> 55.186821
G20: Penyesuaian Biaya CIF :
B21: Jenis Vessel | C21: Handy | G21: Biaya Angkutan Tongkang (Barge) | H21: =VLOOKUP($C$15,Tabel!$B$13:$G$17,2,FALSE)*C16 -> 3.5
B22: Jarak Freight | C22: 1000 | G22: Biaya Vessel | H22: =VLOOKUP($C$21,Tabel!$I$13:$J$17,2,FALSE)*C22 -> 3.9
G23: Biaya Surveyor | H23: =VLOOKUP($C$15,Tabel!$B$13:$G$17,3,FALSE) -> 0.25
G24: Biaya asuransi | H24: =VLOOKUP($C$15,Tabel!$B$13:$G$17,4,FALSE)% -> 0.008
G25: Biaya angkutan truk | H25: =VLOOKUP($C$15,Tabel!$B$13:$G$17,5,FALSE)*0 -> 0
G26: Biaya angkutan kereta api | H26: =VLOOKUP($C$15,Tabel!$B$13:$G$17,6,FALSE)*0 -> 0
G27: Jumlah selain asuransi | H27: =SUM(H21:H23,H25:H26) -> 7.65
G29: HPB CIF net | H29: =+H10+H27 -> 69.586821
G31: ="HPB Jual perhitungan royalty" -> HPB Jual perhitungan royalty | H31: =MAX(IF(C17="FOB Barge",H18,IF(C17="FOB Vessel",H10,IF(C17="CIF",H29,"Isi Terms"))),C18) -> 69.586821
G33: Harga jual menurut HPB | H33: =MAX(IF(C17="FOB Barge",H18*C8,IF(C17="FOB Vessel",H10*C8,IF(C17="CIF",(H29*C8)*(1+H24),"Isi Terms"))),C8*C18) -> 525250.35
G35: Tarif | H35: =IF(C10<=5100,3%,IF(C10<6100,5%,7%)) -> 0.05
G37: Jumlah Royalty | H37: =+H33*H35 -> 26262.518

Sheet HBA 2009-2015
A1: Bulan | C1: HBA (USD/Ton) | D1: Marker
D2: Gunung Bayan I | E2: Prima Coal | F2: Pinang 6150 | G2: Indominco IM_East | H2: Melawan Coal | I2: Envirocoal | J2: Jorong J-1 | K2: Ecocoal
D3: 7000 | E3: 6700 | F3: 6150 | G3: 5700 | H3: 5400 | I3: 5000 | J3: 4400 | K3: 4200
A4: 2015
A5: 42339 | B5: =MONTH(A5)&"-"&YEAR(A5) -> 12-2015
A6: 42310 | B6: =MONTH(A6)&"-"&YEAR(A6) -> 11-2015
A7: 42281 | B7: =MONTH(A7)&"-"&YEAR(A7) -> 10-2015
A8: 42252 | B8: =MONTH(A8)&"-"&YEAR(A8) -> 9-2015
A9: 42223 | B9: =MONTH(A9)&"-"&YEAR(A9) -> 8-2015
A10: 42194 | B10: =MONTH(A10)&"-"&YEAR(A10) -> 7-2015
A11: 42165 | B11: =MONTH(A11)&"-"&YEAR(A11) -> 6-2015
A12: 42513
A13: 42484
A14: 42455
A15: 42426
A16: 42397
A17: 42368
A18: 42339
A19: 42310
A20: 42281
A21: 42252
A22: 42223
A23: 42194
A24: 42165
A25: 42136 | B25: =MONTH(A25)&"-"&YEAR(A25) -> 5-2015 | C25: 61.08 | D25: 65.36 | E25: 66.72 | F25: 60.27 | G25: 50.14 | H25: 49.55 | I25: 47.18 | J25: 37.96 | K25: 34.88
A26: 42107 | B26: =MONTH(A26)&"-"&YEAR(A26) -> 4-2015 | C26: 64.48 | D26: 69.04 | E26: 70.16 | F26: 63.37 | G26: 52.89 | H26: 52 | I26: 49.34 | J26: 39.71 | K26: 36.43
A27: 42078 | B27: =MONTH(A27)&"-"&YEAR(A27) -> 3-2015 | C27: 67.76 | D27: 72.6 | E27: 73.49 | F27: 66.36 | G27: 55.54 | H27: 54.36 | I27: 51.43 | J27: 41.4 | K27: 37.93
A28: 42049 | B28: =MONTH(A28)&"-"&YEAR(A28) -> 2-2015 | C28: 62.92 | D28: 67.35 | E28: 68.58 | F28: 61.95 | G28: 51.63 | H28: 50.87 | I28: 48.35 | J28: 38.91 | K28: 35.72
A29: 42020 | B29: =MONTH(A29)&"-"&YEAR(A29) -> 1-2015 | C29: 63.84 | D29: 68.35 | E29: 69.52 | F29: 62.78 | G29: 52.38 | H29: 51.54 | I29: 48.93 | J29: 39.38 | K29: 36.14
A30: Rata2 | C30: =AVERAGE(C5:C29) -> 64.016 | D30: =AVERAGE(D5:D29) -> 68.54 | E30: =AVERAGE(E5:E29) -> 69.694 | F30: =AVERAGE(F5:F29) -> 62.946 | G30: =AVERAGE(G5:G29) -> 52.516 | H30: =AVERAGE(H5:H29) -> 51.664 | I30: =AVERAGE(I5:I29) -> 49.046 | J30: =AVERAGE(J5:J29) -> 39.472 | K30: =AVERAGE(K5:K29) -> 36.22
A31: 2014
A32: 41974 | B32: =MONTH(A32)&"-"&YEAR(A32) -> 12-2014 | C32: 64.65 | D32: 69.23 | E32: 70.34 | F32: 63.52 | G32: 53.03 | H32: 52.12 | I32: 49.45 | J32: 39.8 | K32: 36.51
A33: 41945 | B33: =MONTH(A33)&"-"&YEAR(A33) -> 11-2014 | C33: 65.7 | D33: 70.36 | E33: 71.4 | F33: 64.48 | G33: 53.88 | H33: 52.87 | I33: 50.12 | J33: 40.34 | K33: 36.99
A34: 41916 | B34: =MONTH(A34)&"-"&YEAR(A34) -> 10-2014 | C34: 67.26 | D34: 72.05 | E34: 72.98 | F34: 65.9 | G34: 55.14 | H34: 54 | I34: 51.11 | J34: 41.14 | K34: 37.7
A35: 41887 | B35: =MONTH(A35)&"-"&YEAR(A35) -> 9-2014 | C35: 69.69 | D35: 74.69 | E35: 75.45 | F35: 68.12 | G35: 57.11 | H35: 55.74 | I35: 52.65 | J35: 42.39 | K35: 38.82
A36: 41858 | B36: =MONTH(A36)&"-"&YEAR(A36) -> 8-2014 | C36: 70.29 | D36: 75.34 | E36: 76.05 | F36: 68.66 | G36: 57.59 | H36: 56.18 | I36: 53.03 | J36: 42.7 | K36: 39.09
A37: 41829 | B37: =MONTH(A37)&"-"&YEAR(A37) -> 7-2014 | C37: 72.45 | D37: 77.68 | E37: 78.24 | F37: 70.63 | G37: 59.34 | H37: 57.73 | I37: 54.41 | J37: 43.81 | K37: 40.8
A38: 41800 | B38: =MONTH(A38)&"-"&YEAR(A38) -> 6-2014 | C38: 73.64 | D38: 78.96 | E38: 79.45 | F38: 71.72 | G38: 60.3 | H38: 58.59 | I38: 55.17 | J38: 44.42 | K38: 40.62
A39: 41771 | B39: =MONTH(A39)&"-"&YEAR(A39) -> 5-2014 | C39: 73.6 | D39: 78.92 | E39: 79.41 | F39: 71.68 | G39: 60.27 | H39: 58.56 | I39: 55.14 | J39: 44.4 | K39: 40.61
A40: 41742 | B40: =MONTH(A40)&"-"&YEAR(A40) -> 4-2014 | C40: 74.81 | D40: 80.23 | E40: 80.64 | F40: 72.78 | G40: 61.24 | H40: 59.43 | I40: 55.91 | J40: 45.2 | K40: 41.16
...

Sheet Tabel
B3: Penyesuaian Biaya FOB Barge
A4: No | B4: Wilayah | C4: Barging (USD/ton/mile) | D4: Surveyor (USD/ton) | E4: Transhipment (USD/ton)
A5: 1 | B5: Sumatera | C5: 0.05 | D5: 0.25 | E5: 3
A6: 2 | B6: Kalimantan Selatan | C6: 0.035 | D6: 0.25 | E6: 4
A7: 3 | B7: Kalimantan Tengah | C7: 0.03 | D7: 0.25 | E7: 4
A8: 4 | B8: Kalimantan Timur | C8: 0.02 | D8: 0.25 | E8: 3.9
A9: 5 | B9: Kalimantan Barat | C9: 0.03 | D9: 0.25 | E9: 3.5
B11: Penyesuaian Biaya CIF
A12: No | B12: Wilayah | C12: Barging (USD/ton/mile) | D12: Draught Survey (USD/ton) | E12: Asuransi (%/shipment) | F12: Angkutan Truk Rp/ton/km | G12: Angkutan Kereta Api Rp/ton/km | I12: Jenis | J12: Vessel (USD/ton/mile)
A13: 1 | B13: Sumatera | C13: 0.05 | D13: 0.25 | E13: 0.8 | F13: 750 | G13: 350 | I13: Capesize | J13: 0.003
A14: 2 | B14: Kalimantan Selatan | C14: 0.035 | D14: 0.25 | E14: 0.8 | F14: 1000 | I14: Panamax | J14: 0.0034
A15: 3 | B15: Kalimantan Tengah | C15: 0.03 | D15: 0.25 | E15: 0.8 | F15: 1000 | I15: Handymax | J15: 0.0037
A16: 4 | B16: Kalimantan Timur | C16: 0.02 | D16: 0.25 | E16: 0.8 | F16: 1000 | I16: Handy | J16: 0.0039
A17: 5 | B17: Kalimantan Barat | C17: 0.03 | D17: 0.25 | E17: 0.8 | F17: 1000

Sheet Chart

Sheet HPB Dec 2012
A1: HARGA BATUBARA ACUAN (HBA) & HARGA PATOKAN BATUBARA (HPB)
A2: BULAN DESEMBER 2012
A3: HBA
A5: HBA
B6: HBA (US$/Ton) | C6: 81.75 | D6: FOB Vessel
A8: HPB BATUBARA MARKER
A9: No | B9: Merek Dagang | C9: KUALITAS TYPICAL | G9: HPB | I9: FKA | J9: Marker | K9: Rumus a | L9: Selisih pembulatan | N9: Koefisien a | O9: Koefisien b | P9: Rumus b Koefisien | Q9: Selisih Rumus b
C10: CV (kcal/kg GAR) | D10: TM (%, AR) | E10: TS (%, AR) | F10: Ash (%, AR) | G10: Marker (USD/ton)
A11: 1 | B11: Gunung Bayan I | C11: 7000 | D11: 10 | E11: 1 | F11: 15 | G11: 87.75 | K11: =ROUND($C$6*C11/6322*(100-D11)/(100-8)-((E11-0.8)*4+(F11-15)*0.4),2) -> 87.75 | L11: =+G11-K11 -> 0
A12: 2 | B12: Prima Coal | C12: 6700 | D12: 12 | E12: 0.6 | F12: 5 | G12: 87.67 | K12: =ROUND($C$6*C12/6322*(100-D12)/(100-8)-((E12-0.8)*4+(F12-15)*0.4),2) -> 87.67 | L12: =+G12-K12 -> 0
A13: 3 | B13: Pinang 6150 | C13: 6200 | D13: 14.5 | E13: 0.6 | F13: 5.5 | G13: 79.11 | K13: =ROUND($C$6*C13/6322*(100-D13)/(100-8)-((E13-0.8)*4+(F13-15)*0.4),2) -> 79.11 | L13: =+G13-K13 -> 0
A14: 4 | B14: Indominco IM_East | C14: 5700 | D14: 17.5 | E14: 1.6 | F14: 4.8 | G14: 66.86 | K14: =ROUND($C$6*C14/6322*(100-D14)/(100-8)-((E14-0.8)*4+(F14-15)*0.4),2) -> 66.98 | L14: =+G14-K14 -> -0.12
A15: 5 | B15: Melawan Coal | C15: 5400 | D15: 22.5 | E15: 0.4 | F15: 5 | G15: 64.42 | K15: =ROUND($C$6*C15/6322*(100-D15)/(100-8)-((E15-0.8)*4+(F15-15)*0.4),2) -> 64.42 | L15: =+G15-K15 -> 0
A16: 6 | B16: Envirocoal | C16: 5000 | D16: 26 | E16: 0.1 | F16: 1.2 | G16: 60.33 | K16: =ROUND($C$6*C16/6322*(100-D16)/(100-8)-((E16-0.8)*4+(F16-15)*0.4),2) -> 60.33 | L16: =+G16-K16 -> 0
A17: 7 | B17: Jorong J-1 | C17: 4400 | D17: 32 | E17: 0.3 | F17: 4.2 | G17: 48.59 | K17: =ROUND($C$6*C17/6322*(100-D17)/(100-8)-((E17-0.8)*4+(F17-15)*0.4),2) -> 48.37 | L17: =+G17-K17 -> 0.22
A18: 8 | B18: Ecocoal | C18: 4200 | D18: 35 | E18: 0.18 | F18: 3.9 | G18: 44.34 | I18: =(((((100-8)/(100-D18))*D18))+(100-8))/100 -> 1.4153846 | K18: =ROUND($C$6*C18/6322*(100-D18)/(100-8/I18)-((E18-0.8)*4+(F18-15)*0.4),2) -> 44.34 | L18: =+G18-K18 -> 0
A20: HPB BATUBARA LAINNYA
A21: 9 | B21: Gunung Bayan II | C21: 7000 | D21: 12 | E21: 2 | F21: 10 | G21: 83.78 | J21: Gunung Bayan I | K21: =((VLOOKUP(J21,$B$11:$G$18,6,FALSE)+(VLOOKUP(J21,$B$11:$G$18,4,FALSE)-0.8)*4+(VLOOKUP(J21,$B$11:$G$18,5,FALSE)-15)*0.4)*(C21/VLOOKUP(J21,$B$11:$G$18,2,FALSE))*(((100-D21)/(100-VLOOKUP(J21,$B$11:$G$18,3,FALSE))*(100-8))/(100-8)))-((E21-0.8)*4+(F21-15)*0.4) -> 83.782222 | L21: =G21-K21 -> -0.0022222222 | N21: 0.9778 | O21: -2.0181 | P21: =+N21*VLOOKUP(J21,$B$11:$G$18,6,FALSE)+O21 -> 83.78385 | Q21: =+G21-P21 -> -0.00385
A22: 10 | B22: Marunda Thermal Coal | C22: 6600 | D22: 11 | E22: 0.5 | F22: 10 | G22: 85.76 | J22: Prima Coal | K22: =((VLOOKUP(J22,$B$11:$G$18,6,FALSE)+(VLOOKUP(J22,$B$11:$G$18,4,FALSE)-0.8)*4+(VLOOKUP(J22,$B$11:$G$18,5,FALSE)-15)*0.4)*(C22/VLOOKUP(J22,$B$11:$G$18,2,FALSE))*(((100-D22)/(100-VLOOKUP(J22,$B$11:$G$18,3,FALSE))*(100-8))/(100-8)))-((E22-0.8)*4+(F22-15)*0.4) -> 85.760784 | L22: =G22-K22 -> -0.00078358209 | N22: 0.9963 | O22: -1.582 | P22: =+N22*VLOOKUP(J22,$B$11:$G$18,6,FALSE)+O22 -> 85.763621 | Q22: =+G22-P22 -> -0.003621
A23: 11 | B23: Trubaindo HCV_HS | C23: 6553 | D23: 12 | E23: 1.69 | F23: 4.2 | G23: 81.81 | J23: Prima Coal | K23: =((VLOOKUP(J23,$B$11:$G$18,6,FALSE)+(VLOOKUP(J23,$B$11:$G$18,4,FALSE)-0.8)*4+(VLOOKUP(J23,$B$11:$G$18,5,FALSE)-15)*0.4)*(C23/VLOOKUP(J23,$B$11:$G$18,2,FALSE))*(((100-D23)/(100-VLOOKUP(J23,$B$11:$G$18,3,FALSE))*(100-8))/(100-8)))-((E23-0.8)*4+(F23-15)*0.4) -> 81.811807 | L23: =G23-K23 -> -0.0018074627 | N23: 0.9781 | O23: -3.939 | P23: =+N23*VLOOKUP(J23,$B$11:$G$18,6,FALSE)+O23 -> 81.811027 | Q23: =+G23-P23 -> -0.001027
A24: 12 | B24: Trubaindo HCV_LS | C24: 6423 | D24: 11.5 | E24: 0.71 | F24: 4.8 | G24: 84.35 | J24: Prima Coal | K24: =((VLOOKUP(J24,$B$11:$G$18,6,FALSE)+(VLOOKUP(J24,$B$11:$G$18,4,FALSE)-0.8)*4+(VLOOKUP(J24,$B$11:$G$18,5,FALSE)-15)*0.4)*(C24/VLOOKUP(J24,$B$11:$G$18,2,FALSE))*(((100-D24)/(100-VLOOKUP(J24,$B$11:$G$18,3,FALSE))*(100-8))/(100-8)))-((E24-0.8)*4+(F24-15)*0.4) -> 84.335268 | L24: =G24-K24 -> 0.014732217 | N24: 0.9641 | O24: -0.172 | P24: =+N24*VLOOKUP(J24,$B$11:$G$18,6,FALSE)+O24 -> 84.350647 | Q24: =+G24-P24 -> -0.000647
A25: 13 | B25: Tanjung Formation Coal | C25: 6420 | D25: 11 | E25: 0.7 | F25: 12.5 | G25: 81.71 | J25: Prima Coal | K25: =((VLOOKUP(J25,$B$11:$G$18,6,FALSE)+(VLOOKUP(J25,$B$11:$G$18,4,FALSE)-0.8)*4+(VLOOKUP(J25,$B$11:$G$18,5,FALSE)-15)*0.4)*(C25/VLOOKUP(J25,$B$11:$G$18,2,FALSE))*(((100-D25)/(100-VLOOKUP(J25,$B$11:$G$18,3,FALSE))*(100-8))/(100-8)))-((E25-0.8)*4+(F25-15)*0.4) -> 81.709126 | L25: =G25-K25 -> 0.00087415197 | N25: 0.9691 | O25: -3.252 | P25: =+N25*VLOOKUP(J25,$B$11:$G$18,6,FALSE)+O25 -> 81.708997 | Q25: =+G25-P25 -> 0.001003
A26: 14 | B26: Pinang 6000 NAR | C26: 6300 | D26: 14 | E26: 0.6 | F26: 5.5 | G26: 80.75 | J26: Pinang 6150 | K26: =((VLOOKUP(J26,$B$11:$G$18,6,FALSE)+(VLOOKUP(J26,$B$11:$G$18,4,FALSE)-0.8)*4+(VLOOKUP(J26,$B$11:$G$18,5,FALSE)-15)*0.4)*(C26/VLOOKUP(J26,$B$11:$G$18,2,FALSE))*(((100-D26)/(100-VLOOKUP(J26,$B$11:$G$18,3,FALSE))*(100-8))/(100-8)))-((E26-0.8)*4+(F26-15)*0.4) -> 80.754533 | L26: =G26-K26 -> -0.004533107 | N26: 1.0221 | O26: -0.102 | P26: =+N26*VLOOKUP(J26,$B$11:$G$18,6,FALSE)+O26 -> 80.756331 | Q26: =+G26-P26 -> -0.006331
A27: 15 | B27: Arutmin Satui 10 | C27: 6300 | D27: 11 | E27: 1 | F27: 10 | G27: 80.01 | J27: Pinang 6150 | K27: =((VLOOKUP(J27,$B$11:$G$18,6,FALSE)+(VLOOKUP(J27,$B$11:$G$18,4,FALSE)-0.8)*4+(VLOOKUP(J27,$B$11:$G$18,5,FALSE)-15)*0.4)*(C27/VLOOKUP(J27,$B$11:$G$18,2,FALSE))*(((100-D27)/(100-VLOOKUP(J27,$B$11:$G$18,3,FALSE))*(100-8))/(100-8)))-((E27-0.8)*4+(F27-15)*0.4) -> 80.011087 | L27: =G27-K27 -> -0.0010865874 | N27: 1.0577 | O27: -3.666 | P27: =+N27*VLOOKUP(J27,$B$11:$G$18,6,FALSE)+O27 -> 80.008647 | Q27: =+G27-P27 -> 0.001353
A28: 16 | B28: Arutmin Senakin | C28: 6250 | D28: 11 | E28: 1 | F28: 12 | G28: 78.58 | J28: Pinang 6150 | K28: =((VLOOKUP(J28,$B$11:$G$18,6,FALSE)+(VLOOKUP(J28,$B$11:$G$18,4,FALSE)-0.8)*4+(VLOOKUP(J28,$B$11:$G$18,5,FALSE)-15)*0.4)*(C28/VLOOKUP(J28,$B$11:$G$18,2,FALSE))*(((100-D28)/(100-VLOOKUP(J28,$B$11:$G$18,3,FALSE))*(100-8))/(100-8)))-((E28-0.8)*4+(F28-15)*0.4) -> 78.585602 | L28: =G28-K28 -> -0.0056017733 | N28: 1.0493 | O28: -4.427 | P28: =+N28*VLOOKUP(J28,$B$11:$G$18,6,FALSE)+O28 -> 78.583123 | Q28: =+G28-P28 -> -0.003123
A29: 17 | B29: Arutmin A6250 | C29: 6250 | D29: 10 | E29: 1.2 | F29: 12 | G29: 78.66 | J29: Pinang 6150 | K29: =((VLOOKUP(J29,$B$11:$G$18,6,FALSE)+(VLOOKUP(J29,$B$11:$G$18,4,FALSE)-0.8)*4+(VLOOKUP(J29,$B$11:$G$18,5,FALSE)-15)*0.4)*(C29/VLOOKUP(J29,$B$11:$G$18,2,FALSE))*(((100-D29)/(100-VLOOKUP(J29,$B$11:$G$18,3,FALSE))*(100-8))/(100-8)))-((E29-0.8)*4+(F29-15)*0.4) -> 78.664092 | L29: =G29-K29 -> -0.0040916808 | N29: 1.0611 | O29: -5.281 | P29: =+N29*VLOOKUP(J29,$B$11:$G$18,6,FALSE)+O29 -> 78.662621 | Q29: =+G29-P29 -> -0.002621
A30: 18 | B30: Mandiri A | C30: 6210 | D30: 10 | E30: 0.7 | F30: 4.7 | G30: 83.1 | J30: Pinang 6150 | K30: =((VLOOKUP(J30,$B$11:$G$18,6,FALSE)+(VLOOKUP(J30,$B$11:$G$18,4,FALSE)-0.8)*4+(VLOOKUP(J30,$B$11:$G$18,5,FALSE)-15)*0.4)*(C30/VLOOKUP(J30,$B$11:$G$18,2,FALSE))*(((100-D30)/(100-VLOOKUP(J30,$B$11:$G$18,3,FALSE))*(100-8))/(100-8)))-((E30-0.8)*4+(F30-15)*0.4) -> 83.078081 | L30: =G30-K30 -> 0.021918506 | N30: 1.0543 | O30: -0.31 | P30: =+N30*VLOOKUP(J30,$B$11:$G$18,6,FALSE)+O30 -> 83.095673 | Q30: =+G30-P30 -> 0.004327
A31: 19 | B31: Wahana Coal | C31: 6200 | D31: 12 | E31: 0.9 | F31: 10 | G31: 78.29 | J31: Pinang 6150 | K31: =((VLOOKUP(J31,$B$11:$G$18,6,FALSE)+(VLOOKUP(J31,$B$11:$G$18,4,FALSE)-0.8)*4+(VLOOKUP(J31,$B$11:$G$18,5,FALSE)-15)*0.4)*(C31/VLOOKUP(J31,$B$11:$G$18,2,FALSE))*(((100-D31)/(100-VLOOKUP(J31,$B$11:$G$18,3,FALSE))*(100-8))/(100-8)))-((E31-0.8)*4+(F31-15)*0.4) -> 78.288655 | L31: =G31-K31 -> 0.0013450292 | N31: 1.0292 | O31: -3.135 | P31: =+N31*VLOOKUP(J31,$B$11:$G$18,6,FALSE)+O31 -> 78.285012 | Q31: =+G31-P31 -> 0.004988
A32: 20 | B32: Medco Bara | C32: 6200 | D32: 10 | E32: 4 | F32: 12 | G32: 66.83 | J32: Pinang 6150 | K32: =((VLOOKUP(J32,$B$11:$G$18,6,FALSE)+(VLOOKUP(J32,$B$11:$G$18,4,FALSE)-0.8)*4+(VLOOKUP(J32,$B$11:$G$18,5,FALSE)-15)*0.4)*(C32/VLOOKUP(J32,$B$11:$G$18,2,FALSE))*(((100-D32)/(100-VLOOKUP(J32,$B$11:$G$18,3,FALSE))*(100-8))/(100-8)))-((E32-0.8)*4+(F32-15)*0.4) -> 66.831579 | L32: =G32-K32 -> -0.0015789474 | P32: =+N32*VLOOKUP(J32,$B$11:$G$18,6,FALSE)+O32 -> 0 | Q32: =+G32-P32 -> 66.83
A33: 21 | B33: Indominco IM_West / 6500 | C33: 6171 | D33: 15.5 | E33: 0.76 | F33: 5.2 | G33: 77.36 | J33: Pinang 6150 | K33: =((VLOOKUP(J33,$B$11:$G$18,6,FALSE)+(VLOOKUP(J33,$B$11:$G$18,4,FALSE)-0.8)*4+(VLOOKUP(J33,$B$11:$G$18,5,FALSE)-15)*0.4)*(C33/VLOOKUP(J33,$B$11:$G$18,2,FALSE))*(((100-D33)/(100-VLOOKUP(J33,$B$11:$G$18,3,FALSE))*(100-8))/(100-8)))-((E33-0.8)*4+(F33-15)*0.4) -> 77.3741 | L33: =G33-K33 -> -0.014099689 | N33: 0.9837 | O33: -0.453 | P33: =+N33*VLOOKUP(J33,$B$11:$G$18,6,FALSE)+O33 -> 77.367507 | Q33: =+G33-P33 -> -0.007507
A34: 22 | B34: TAJ Coal | C34: 6200 | D34: 10 | E34: 1 | F34: 14 | G34: 78.03 | J34: Pinang 6150 | K34: =((VLOOKUP(J34,$B$11:$G$18,6,FALSE)+(VLOOKUP(J34,$B$11:$G$18,4,FALSE)-0.8)*4+(VLOOKUP(J34,$B$11:$G$18,5,FALSE)-15)*0.4)*(C34/VLOOKUP(J34,$B$11:$G$18,2,FALSE))*(((100-D34)/(100-VLOOKUP(J34,$B$11:$G$18,3,FALSE))*(100-8))/(100-8)))-((E34-0.8)*4+(F34-15)*0.4) -> 78.031579 | L34: =G34-K34 -> -0.0015789474 | N34: 1.0292 | O34: -5.135 | P34: =+N34*VLOOKUP(J34,$B$11:$G$18,6,FALSE)+O34 -> 76.285012 | Q34: =+G34-P34 -> 1.744988
A35: 23 | B35: Mandiri B | C35: 6148 | D35: 10 | E35: 1.26 | F35: 4.7 | G35: 80.05 | J35: Pinang 6150 | K35: =((VLOOKUP(J35,$B$11:$G$18,6,FALSE)+(VLOOKUP(J35,$B$11:$G$18,4,FALSE)-0.8)*4+(VLOOKUP(J35,$B$11:$G$18,5,FALSE)-15)*0.4)*(C35/VLOOKUP(J35,$B$11:$G$18,2,FALSE))*(((100-D35)/(100-VLOOKUP(J35,$B$11:$G$18,3,FALSE))*(100-8))/(100-8)))-((E35-0.8)*4+(F35-15)*0.4) -> 80.053766 | L35: =G35-K35 -> -0.0037657046 | N35: 1.0438 | O35: -2.521 | P35: =+N35*VLOOKUP(J35,$B$11:$G$18,6,FALSE)+O35 -> 80.054018 | Q35: =+G35-P35 -> -0.004018
A36: 24 | B36: Trubaindo MCV_LS | C36: 6143 | D36: 14 | E36: 0.76 | F36: 5.2 | G36: 78.33 | J36: Pinang 6150 | K36: =((VLOOKUP(J36,$B$11:$G$18,6,FALSE)+(VLOOKUP(J36,$B$11:$G$18,4,FALSE)-0.8)*4+(VLOOKUP(J36,$B$11:$G$18,5,FALSE)-15)*0.4)*(C36/VLOOKUP(J36,$B$11:$G$18,2,FALSE))*(((100-D36)/(100-VLOOKUP(J36,$B$11:$G$18,3,FALSE))*(100-8))/(100-8)))-((E36-0.8)*4+(F36-15)*0.4) -> 78.336714 | L36: =G36-K36 -> -0.0067137899 | N36: 0.9966 | O36: -0.504 | P36: =+N36*VLOOKUP(J36,$B$11:$G$18,6,FALSE)+O36 -> 78.337026 | Q36: =+G36-P36 -> -0.007026
A37: 25 | B37: SKB Coal | C37: 6130 | D37: 9 | E37: 2.2 | F37: 17 | G37: 72.01 | J37: Pinang 6150 | K37: =((VLOOKUP(J37,$B$11:$G$18,6,FALSE)+(VLOOKUP(J37,$B$11:$G$18,4,FALSE)-0.8)*4+(VLOOKUP(J37,$B$11:$G$18,5,FALSE)-15)*0.4)*(C37/VLOOKUP(J37,$B$11:$G$18,2,FALSE))*(((100-D37)/(100-VLOOKUP(J37,$B$11:$G$18,3,FALSE))*(100-8))/(100-8)))-((E37-0.8)*4+(F37-15)*0.4) -> 72.007684 | L37: =G37-K37 -> 0.0023159781 | N37: 1.0523 | O37: -11.241 | P37: =+N37*VLOOKUP(J37,$B$11:$G$18,6,FALSE)+O37 -> 72.006453 | Q37: =+G37-P37 -> 0.003547
A38: 26 | B38: Baramarta Coal | C38: 6112 | D38: 9.5 | E38: 0.95 | F38: 13 | G38: 77.95 | J38: Pinang 6150 | K38: =((VLOOKUP(J38,$B$11:$G$18,6,FALSE)+(VLOOKUP(J38,$B$11:$G$18,4,FALSE)-0.8)*4+(VLOOKUP(J38,$B$11:$G$18,5,FALSE)-15)*0.4)*(C38/VLOOKUP(J38,$B$11:$G$18,2,FALSE))*(((100-D38)/(100-VLOOKUP(J38,$B$11:$G$18,3,FALSE))*(100-8))/(100-8)))-((E38-0.8)*4+(F38-15)*0.4) -> 77.947903 | L38: =G38-K38 -> 0.0020970383 | N38: 1.0435 | O38: -4.6 | P38: =+N38*VLOOKUP(J38,$B$11:$G$18,6,FALSE)+O38 -> 77.951285 | Q38: =+G38-P38 -> -0.001285
A39: 27 | B39: Arutmin A6100 | C39: 6100 | D39: 11.5 | E39: 1 | F39: 12.5 | G39: 76.08 | J39: Pinang 6150 | K39: =((VLOOKUP(J39,$B$11:$G$18,6,FALSE)+(VLOOKUP(J39,$B$11:$G$18,4,FALSE)-0.8)*4+(VLOOKUP(J39,$B$11:$G$18,5,FALSE)-15)*0.4)*(C39/VLOOKUP(J39,$B$11:$G$18,2,FALSE))*(((100-D39)/(100-VLOOKUP(J39,$B$11:$G$18,3,FALSE))*(100-8))/(100-8)))-((E39-0.8)*4+(F39-15)*0.4) -> 76.080444 | L39: =G39-K39 -> -0.0004442558 | N39: 1.0184 | O39: -4.485 | P39: =+N39*VLOOKUP(J39,$B$11:$G$18,6,FALSE)+O39 -> 76.080624 | Q39: =+G39-P39 -> -0.000624
A40: 28 | B40: Insani Coal | C40: 6050 | D40: 19 | E40: 0.15 | F40: 3.2 | G40: 76.22 | J40: Pinang 6150 | K40: =((VLOOKUP(J40,$B$11:$G$18,6,FALSE)+(VLOOKUP(J40,$B$11:$G$18,4,FALSE)-0.8)*4+(VLOOKUP(J40,$B$11:$G$18,5,FALSE)-15)*0.4)*(C40/VLOOKUP(J40,$B$11:$G$18,2,FALSE))*(((100-D40)/(100-VLOOKUP(J40,$B$11:$G$18,3,FALSE))*(100-8))/(100-8)))-((E40-0.8)*4+(F40-15)*0.4) -> 76.200637 | L40: =G40-K40 -> 0.019363328 | N40: 0.9244 | O40: 3.088 | P40: =+N40*VLOOKUP(J40,$B$11:$G$18,6,FALSE)+O40 -> 76.217284 | Q40: =+G40-P40 -> 0.002716
A41: 29 | B41: BCS Coal | C41: 5915 | D41: 15.1 | E41: 0.56 | F41: 9.4 | G41: 73.78 | J41: Pinang 6150 | K41: =((VLOOKUP(J41,$B$11:$G$18,6,FALSE)+(VLOOKUP(J41,$B$11:$G$18,4,FALSE)-0.8)*4+(VLOOKUP(J41,$B$11:$G$18,5,FALSE)-15)*0.4)*(C41/VLOOKUP(J41,$B$11:$G$18,2,FALSE))*(((100-D41)/(100-VLOOKUP(J41,$B$11:$G$18,3,FALSE))*(100-8))/(100-8)))-((E41-0.8)*4+(F41-15)*0.4) -> 73.786102 | L41: =G41-K41 -> -0.0061018393 | N41: 0.9557 | O41: -0.724 | P41: =+N41*VLOOKUP(J41,$B$11:$G$18,6,FALSE)+O41 -> 74.881427 | Q41: =+G41-P41 -> -1.101427
A42: 30 | B42: Indominco IM_West / 6350 | C42: 6029 | D42: 15.5 | E42: 0.71 | F42: 5.2 | G42: 75.88 | J42: Pinang 6150 | K42: =((VLOOKUP(J42,$B$11:$G$18,6,FALSE)+(VLOOKUP(J42,$B$11:$G$18,4,FALSE)-0.8)*4+(VLOOKUP(J42,$B$11:$G$18,5,FALSE)-15)*0.4)*(C42/VLOOKUP(J42,$B$11:$G$18,2,FALSE))*(((100-D42)/(100-VLOOKUP(J42,$B$11:$G$18,3,FALSE))*(100-8))/(100-8)))-((E42-0.8)*4+(F42-15)*0.4) -> 75.88754 | L42: =G42-K42 -> -0.0075396246 | N42: 0.961 | O42: -0.149 | P42: =+N42*VLOOKUP(J42,$B$11:$G$18,6,FALSE)+O42 -> 75.87571 | Q42: =+G42-P42 -> 0.00429
A43: 31 | B43: Bangun Coal | C43: 6072 | D43: 10 | E43: 2.2 | F43: 14.9 | G43: 71.23 | J43: Pinang 6150 | K43: =((VLOOKUP(J43,$B$11:$G$18,6,FALSE)+(VLOOKUP(J43,$B$11:$G$18,4,FALSE)-0.8)*4+(VLOOKUP(J43,$B$11:$G$18,5,FALSE)-15)*0.4)*(C43/VLOOKUP(J43,$B$11:$G$18,2,FALSE))*(((100-D43)/(100-VLOOKUP(J43,$B$11:$G$18,3,FALSE))*(100-8))/(100-8)))-((E43-0.8)*4+(F43-15)*0.4) -> 71.252346 | L43: =G43-K43 -> -0.02234635 | N43: 1.0268 | O43: -6.215 | P43: =+N43*VLOOKUP(J43,$B$11:$G$18,6,FALSE)+O43 -> 75.015148 | Q43: =+G43-P43 -> -3.785148
...
